BEGIN:VCALENDAR
PRODID:-//Grails iCalendar plugin//NONSGML Grails iCalendar plugin//EN
VERSION:2.0
CALSCALE:GREGORIAN
METHOD:PUBLISH
BEGIN:VEVENT
DTSTAMP:20260425T154414Z
DTSTART;TZID=Europe/Stockholm:20260627T091500
DTEND;TZID=Europe/Stockholm:20260628T170000
SUMMARY:Workshop: Free Will Revisionism
UID:20260427T132535Z-iCalPlugin-Grails@philevents-web-6b96c54f56-bljdq
TZID:Europe/Stockholm
LOCATION:Göteborg\, Sweden
DESCRIPTION:<p>In June this year the&nbsp\;Free Will Foundations project&nbsp\;will arrange a workshop on Revisionism about Free Will&nbsp\;at the University of Gothenburg. (<a href="https://www.gu.se/en/research/free-will-foundations-metaethical-and-methodological-underpinnings-of-free-will-theories">https://www.gu.se/en/research/free-will-foundations-metaethical-and-methodological-underpinnings-of-free-will-theories</a>)</p>\n<p>A free will&nbsp\;theory is revisionist if it involves rejecting and/or changing what one takes to be (problematic) commitments built into relevant concepts or common-sense assumptions. Revisionist accounts provide a way to avoid argumentative stalemate based on conflicting intuitions (between e.g.\, compatibilists and incompatibilists about free will). But they also raise methodological questions about the role of common-sense intuitions in philosophical arguments. This workshop gathers proponents and critics of revisionist views about free will.&nbsp\;</p>
ORGANIZER;CN="Ragnar Francén";CN="Alva Stråge":
METHOD:PUBLISH
END:VEVENT
END:VCALENDAR
