BEGIN:VCALENDAR
PRODID:-//Grails iCalendar plugin//NONSGML Grails iCalendar plugin//EN
VERSION:2.0
CALSCALE:GREGORIAN
METHOD:PUBLISH
BEGIN:VEVENT
DTSTAMP:20260425T140946Z
DTSTART;TZID=Europe/London:20260616T093000
DTEND;TZID=Europe/London:20260616T170000
SUMMARY:Justice in Local Space
UID:20260427T111222Z-iCalPlugin-Grails@philevents-web-6b96c54f56-bljdq
TZID:Europe/London
LOCATION:Sir Arthur Lewis Building\, Lincoln's Inn Fields\, London\, United Kingdom\, WC2A 2PH
DESCRIPTION:<p>The use and control of physical space has long been central to political philosophy (conceived\, for instance\, in terms of private property rights or collective territorial rights). However\, this rich body of work has focused primarily on the justification of exclusive control rights at either the small (individual-property-right) scale or the large (territorial-right) scale\, rather than on the normative dimensions of intermediate local-scale use of physical space and everyday spatial experience\, the demands of justice or morality that arise from the local-level inhabiting of a shared physical environment. This is beginning to emerge as a subject of study in political philosophy/theory\, and recent book-length treatments (e.g. Kohn's The Death and Life of the Urban Commonwealth (2016)\; Kukla's City Living (2021)) and emerging literatures on topics such as gentrification and housing justice begin to address these concerns. Much of this work\, though\, assumes "the city" (metropolitan area or municipality) as the relevant unit of analysis. Yet for theories concerned with justice in day-to-day life\, issues of justice in local land use need not be distinctively urban\, and the local space more generally&mdash\;neighbourhoods\, districts\, villages\, rural areas&mdash\;and the relations between them (home to work\, home to community) may be a more meaningful unit of analysis.</p>\n<p>In this workshop we wish to explore what is distinctive about justice at the local scale and in the local organisation of land use\, and how established justice frameworks might need modification when applied to everyday spatial experience.</p>\n<p><strong><br></strong></p>\n<p>Invited speakers:</p>\n<p>Katy Wells (Warwick)</p>\n<p>Bart van Leeuwen (Radboud)</p>\n<p>Tyler Zimmer (Chicago)</p>\n<p>Holly Longair (Kwantlen Polytechnic)</p>\n<p>Pilar Lopez-Cantero (Antwerp) &amp\; Dan Guillery (LSE)</p>\n<p>Bettina Lange (Radboud)</p>\n<p>Corey Schuck (Radboud)</p>\n<p>This workshop is hosted and funded by the Centre for Philosophy of Natural and Social Science at the LSE.</p>\n<p>Practicalities</p>\n<p>9.30 - 18.00\, 16th June 2026\, in person</p>\n<p>London School of Economics and Political Science (Sir Arthur Lewis Building\, Room G.03)</p>\n<p>All are welcome\, but please register your attendance at the link above\, so that we have an idea of numbers for catering\, and since\, if you are not a member of the LSE\, you will not be able to access the building unless you are on our list in advance.</p>
ORGANIZER;CN=Daniel Guillery;CN=Corey Schuck;CN=Bettina Lange:
METHOD:PUBLISH
END:VEVENT
END:VCALENDAR
