BEGIN:VCALENDAR
PRODID:-//Grails iCalendar plugin//NONSGML Grails iCalendar plugin//EN
VERSION:2.0
CALSCALE:GREGORIAN
METHOD:PUBLISH
BEGIN:VEVENT
DTSTAMP:20260422T161113Z
DTSTART;TZID=America/Toronto:20140715T050000
DTEND;TZID=America/Toronto:20140715T050000
SUMMARY:Workshop of Ontologies and Data in Life Sciences (ODLS 2014)
UID:20260426T192514Z-iCalPlugin-Grails@philevents-web-6b96c54f56-bljdq
TZID:America/Toronto
LOCATION:Freiburg\, Germany
DESCRIPTION:<p>Workshop of Ontologies and Data in Life Sciences (ODLS 2014)<br><br>&nbsp\; &nbsp\; &nbsp\; &nbsp\; &nbsp\; &nbsp\;Oct 7-8\, 2014&nbsp\;&nbsp\; &nbsp\; &nbsp\;Freiburg i.Br.\, Germany<br><br><br>Goals of the Workshop<br>---------------------<br><br>Medicine\, biology and life sciences produce hardly manageable and<br>comprehensible amounts of data\, information\, and knowledge. Their<br>computer-based processing\, integration\, as well as their conceptual<br>foundation and application presents ever new challenges to existing<br>methods of knowledge representation\, data bases\, and data analysis.<br>In the life sciences\, enormous data sets are being produced in<br>connection with biological and medical experiments\, aiming to unravel<br>biological interconnections for a better understanding in order to<br>offer patients the best possible therapies. Data management and data<br>processing in the life sciences ranges from the best possible<br>integration and usage of distributed\, heterogeneous data to the best<br>possible obfuscation of medical data.<br><br>This integrated workshop covers the overall spectrum of biomedical<br>information processing\, from experimental data acquisition and data<br>management\, across analysis\, structuring and interpretation of data\,<br>up to the development of structures of knowledge in the form of<br>ontologies with their various applications. The workshop pursues the<br>aim to gather scientists that work in these fields in order to exchange<br>ideas\, to discuss new results and to inspire collaborations. The work-<br>shop has an interdisciplinary character. It fosters the collaboration<br>between ontologists\, computer scientists\, bio-informaticians\, medical<br>information scientists\, applied logicians\, as well as the cooperation<br>with physicians\, bio-chemists\, and biometricians.</p>\n<p>Topics<br>------<br><br>We invite submissions in all areas of biomedical ontology and data<br>management. The following topics are relevant\, yet others related<br>to these basic topics are likewise welcome:<br><br>- Integration\, management and retrieval of big data and/or complex<br>&nbsp\; data sets<br>- Heterogeneity and integration of big data<br>- Integrative data semantics<br>- Curation of data in life sciences<br>- Visualization of data in life sciences<br>- Generic transformation of clinical data into Semantic Web standards<br>- Data protection of clinical data<br>- Omics-data for diagnosis and therapy<br>- Ontologies in the field of biology\, medicine and clinical research\,<br>&nbsp\; for example<br>&nbsp\;-- Ontologies for the specification of clinical trials and medical<br>&nbsp\; &nbsp\; phenotypes<br>&nbsp\;-- Process ontologies in systems biology and in medicine<br>&nbsp\;-- Ontologies in neuro biology<br>- Ontologies in knowledge representation<br>&nbsp\; (for example\, formal ontology of time and space\, formal ontology of<br>&nbsp\; &nbsp\;properties\, roles and functions)<br>- Methods and tools for development\, management and application of<br>&nbsp\; ontologies\, for example\,<br>&nbsp\;-- Quality assurance and evaluation of ontologies<br>&nbsp\;-- Applications in the fields of Semantic Web\, Linked Open Data\, and<br>&nbsp\; &nbsp\; Big Data<br><br><br>Important Dates<br>---------------<br><br>Submission of contributions: &nbsp\;&nbsp\;July 15\, 2014&nbsp\;&nbsp\; &nbsp\; &nbsp\; (Tue) &nbsp\; &nbsp\; &nbsp\;<br>Author notification: &nbsp\; &nbsp\; &nbsp\; &nbsp\; &nbsp\; August 25\, 2014 &nbsp\; &nbsp\; (Mon)<br>Camera-ready manuscripts due: &nbsp\;September 10\, 2014 &nbsp\;(Wed)<br>Registration: &nbsp\; &nbsp\; &nbsp\; &nbsp\; &nbsp\; &nbsp\; &nbsp\; &nbsp\; &nbsp\;September 30\, 2014&nbsp\;&nbsp\;(Tue)<br>ODLS Workshop: &nbsp\; &nbsp\; &nbsp\; &nbsp\; &nbsp\; &nbsp\; &nbsp\; &nbsp\;&nbsp\;October 7-8\, 2014&nbsp\;&nbsp\; (Tue-Wed)<br><br><br>Submission Instructions<br>-----------------------<br>Submissions to the workshop can be<br>- **extended abstracts of 2 pages** or<br>- **papers of 4 to 6 pages** (any such length is equally welcome\;<br>&nbsp\; &nbsp\; &nbsp\; &nbsp\; &nbsp\; &nbsp\; &nbsp\; &nbsp\; &nbsp\; &nbsp\; &nbsp\; &nbsp\; &nbsp\; &nbsp\; &nbsp\; 6 pages is the strict maximum).<br><br>Contributions in English are highly recommended\, but submissions<br>in German can also be accepted.<br><br>The preferred file format for submissions is PDF\, other admitted<br>formats are Microsoft Word (DOC and DOCX) and Postscript (PS).<br>Please use the corresponding template for submissions\, either the<br>LaTeX template or the Microsoft Word template\, see [1].<br><br>Contributions must be submitted via the EasyChair conference system.<br><br>Accepted abstracts and papers will be printed in a proceedings<br>volume (with ISSN) that will be distributed during the workshop.<br>After the workshop authors of selected papers will be invited to submit<br>extended versions to the Journal of Biomedical Semantics (JBMS) [2].</p>\n<p>Organization<br>------------<br><br>Martin Boeker\, &nbsp\;University of Freiburg &nbsp\;(general &amp\; local chair)<br>Ludger Jansen\, &nbsp\;University of Muenster &nbsp\; &nbsp\; &nbsp\; &nbsp\; &nbsp\; &nbsp\; &nbsp\; (PC chair)<br>Heinrich Herre\, University of Leipzig &nbsp\; &nbsp\; &nbsp\; &nbsp\; (speaker of OBML)<br>Frank Loebe\, &nbsp\; &nbsp\;University of Leipzig<br><br>ODLS 2014 is associated with the group Ontologies in Medicine and<br>Life Sciences (OBML) [3] within the German Informatics Society (GI)\,<br>and it is a Supported Event of the International Association for<br>Ontology and Its Applications (IAOA) [4].<br><br><br>Location and Local Organization<br>-------------------------------<br>ODLS 2014 will take place in Freiburg im Breisgau\, Germany\,<br>hosted by the<br><br>&nbsp\;Center for Medical Biometry and Medical Informatics &nbsp\; [5]<br>&nbsp\;Medical Center - University of Freiburg<br><br><br>Program Committee<br>-----------------<br><br>Patryk Burek\, &nbsp\; &nbsp\; &nbsp\;University of Leipzig<br>George Gkoutos\, &nbsp\; &nbsp\;Aberystwyth University\, UK<br>Heinrich Herre\, &nbsp\; &nbsp\;University of Leipzig<br>Robert Hoehndorf\, &nbsp\;University of Cambridge\, UK<br>Toralf Kirsten\, &nbsp\; &nbsp\;University of Leipzig<br>Oliver Kutz\, &nbsp\; &nbsp\; &nbsp\; Otto von Guericke University Magdeburg<br>Wolfgang M&uuml\;ller\, &nbsp\; HITS gGmbH\, Heidelberg<br>Axel Ngonga-Ngomo\, University of Leipzig<br>Anika Oellrich\, &nbsp\; &nbsp\;European Bioinformatics Institute (EBI)\, Hinxton\, UK<br>Dietrich Rebholz-Schuhmann\, University of Zurich\, Switzerland<br>Peter Robinson\, &nbsp\; &nbsp\;Charit&eacute\; Berlin<br>Daniel Schober\, &nbsp\; &nbsp\;Leibniz Institute of Plant Biochemistry (IPB)\, Halle<br>Falk Schreiber\, &nbsp\; &nbsp\;Leibniz Institute of Plant Genetics and Crop Plant<br>&nbsp\; &nbsp\; &nbsp\; &nbsp\; &nbsp\; &nbsp\; &nbsp\; &nbsp\; &nbsp\; Research (IPK)\, Gatersleben<br>Stefan Schulz\, &nbsp\; &nbsp\; Medical University of Graz\, Austria<br>Aleksandra Sojic\, &nbsp\;Institute of Industrial Technologies and Automation<br>&nbsp\; &nbsp\; &nbsp\; &nbsp\; &nbsp\; &nbsp\; &nbsp\; &nbsp\; &nbsp\; (ITIA-CNR)\, Milan\, Italy<br>Dagmar Waltemath\, &nbsp\;University of Rostock<br><br>(further members TBA\, inquiries pending\, see [1] for updates)<br><br><br>Links<br>-----<br>[1] Workshop website<br><br>&nbsp\; &nbsp\;http://tinyurl.com/odls-2014<br><br>&nbsp\; &nbsp\;https://wiki.imise.uni-leipzig.de/Gruppen/OBML/Workshops/2014-ODLS<br><br>[2] Journal of Biomedical Semantics website<br><br>&nbsp\; &nbsp\;http://www.jbiomedsem.com/<br><br>[3] OBML group website<br><br>&nbsp\; &nbsp\;https://wiki.imise.uni-leipzig.de/Gruppen/OBML<br><br>[4] IAOA website<br><br>&nbsp\; &nbsp\;http://iaoa.org/<br><br>[5] Local Organization website<br><br>&nbsp\; &nbsp\;http://portal.uni-freiburg.de/imbi</p>
ORGANIZER:
METHOD:PUBLISH
END:VEVENT
END:VCALENDAR
