BEGIN:VCALENDAR
PRODID:-//Grails iCalendar plugin//NONSGML Grails iCalendar plugin//EN
VERSION:2.0
CALSCALE:GREGORIAN
METHOD:PUBLISH
BEGIN:VEVENT
DTSTAMP:20260425T172310Z
DTSTART;TZID=Europe/Brussels:20260630T080000
DTEND;TZID=Europe/Brussels:20260630T080000
SUMMARY:Early Phenomenology on ‘Position-Taking’ (Stellungnahme). Theoretical Stance\, Emotional Response\, and the Constitution of the Person
UID:20260427T151110Z-iCalPlugin-Grails@philevents-web-6b96c54f56-bljdq
TZID:Europe/Brussels
LOCATION:Louvain-la-Neuve\, Belgium
DESCRIPTION:<p><strong>Call for Abstracts</strong></p>\n<p>&ldquo\;Early Phenomenology on &lsquo\;Position-Taking&rsquo\; (<em>Stellungnahme</em>). Theoretical Stance\, Emotional Response\, and the Constitution of the Person&rdquo\;</p>\n<p>UCLouvain\, Belgium\, 17&ndash\;19 March 2027</p>\n<p><strong>Organizing committee</strong>: Alexis Delamare (University College Dublin/ULi&egrave\;ge) &amp\; &Eacute\;lise Dravigny (UCLouvain/Sorbonne Universit&eacute\;)</p>\n<p><strong>Scientific committee</strong>: Sylvain Camilleri (UCLouvain)\, Alexis Delamare (University College Dublin/ULi&egrave\;ge)\, Arnaud Dewalque (ULi&egrave\;ge)\, &Eacute\;lise Dravigny (UCLouvain/Sorbonne Universit&eacute\;)\, Bruno Leclercq (ULi&egrave\;ge)\, Marc Maesschalck (UCLouvain)\, Denis Seron (ULi&egrave\;ge)</p>\n<p>Submission guidelines</p>\n<p>-&nbsp\;&nbsp\;&nbsp\;&nbsp\;&nbsp\;&nbsp\;&nbsp\;&nbsp\;&nbsp\; Please send your abstracts as attachments (Word or PDF) to both elise.dravigny@uclouvain.be and alexis.delamare@ucd.ie</p>\n<p>-&nbsp\;&nbsp\;&nbsp\;&nbsp\;&nbsp\;&nbsp\;&nbsp\;&nbsp\;&nbsp\; Abstract length: max. 600 words (bibliography excluded\, if any).</p>\n<p>-&nbsp\;&nbsp\;&nbsp\;&nbsp\;&nbsp\;&nbsp\;&nbsp\;&nbsp\;&nbsp\; Abstracts should be anonymized. Please include your name\, affiliation\, and position in the body of the email.</p>\n<p>-&nbsp\;&nbsp\;&nbsp\;&nbsp\;&nbsp\;&nbsp\;&nbsp\;&nbsp\;&nbsp\; Deadline for abstract submission: <strong>30 June 2026</strong>.</p>\n<p>-&nbsp\;&nbsp\;&nbsp\;&nbsp\;&nbsp\;&nbsp\;&nbsp\;&nbsp\;&nbsp\; Notification of acceptance: by 15 July 2026.</p>\n<p>Theme and scope of the conference</p>\n<p><em>&ldquo\;Now the question is how we want to fix the concept of position-taking. It is not so easy&rdquo\; (Edmund Husserl\, Ms A VI 31\, 42a\, 1928)</em></p>\n<p>This conference aims to shed new light on the intriguing concept of <em>Stellungnahme</em> (usually translated as &ldquo\;position-taking&rdquo\;) as it is applied by early phenomenologists\, especially by Edmund Husserl and the so-called &lsquo\;Munich-G&ouml\;ttingen&rsquo\; Circle of phenomenology\, composed of Johannes Daubert\, Dietrich von Hildebrand\, Roman Ingarden\, Alexander Pf&auml\;nder\, Adolf Reinach\, Max Scheler\, and Edith Stein\, among others.</p>\n<p>Within early phenomenology\, the term <em>Stellungnahme</em> is first employed in a published work by Reinach in &ldquo\;Zur Theorie des negativen Urteils&rdquo\;&nbsp\;(1911\; 1982). There\, it characterizes those mental experiences\, such as belief\, striving\, or love\, which display an inherent polarity (being respectively opposed to disbelief\, struggle\, and hate) &ndash\; in contrast to representations or meanings. Reinach then takes up this concept in 1912 in his essay on &ldquo\;reflection&rdquo\; (<em>&Uuml\;berlegung</em>) (1912\; 1913)\, in which he emphasizes that intellectual reflection necessarily aims to establish a &ldquo\;position-taking&rdquo\;\, typically a conviction about a state of affairs (2017\, 58&ndash\;65).</p>\n<p>Soon after\, clearly drawing on Reinach\, von Hildebrand elaborates his own original approach to <em>Stellungnahme</em>\, through its cardinal distinction with <em>Kenntnisnahme</em> or &ldquo\;knowledge-taking&rdquo\; (von Hildebrand 1916\, 134). A knowledge-taking\, such as the vision of a landscape\, is characterized as a mere &ldquo\;having&rdquo\; of a content\, whereas\, in the case of a <em>Stellungnahme</em>\, I take a spontaneous stance with respect to the appearing object. In this regard\, intellectual experiences such as conviction\, but also affective experiences such as joy or indignation and conative experiences such as willing\, insofar as they exhibit such subjective activity\, are to be interpreted as &lsquo\;position-takings&rsquo\;.</p>\n<p>Especially in his manuscripts from the <em>Studien zur Struktur des Bewusstseins</em>\, Edmund Husserl also makes extensive and yet-to-be-explored use of the concept of <em>Stellungnahme</em>. In the theoretical sphere\, he notably distinguishes between &lsquo\;position-taking&rsquo\; understood as a positional act &ndash\; in contrast to neutral &lsquo\;mere representations&rsquo\; (1980\, 446&ndash\;47) &ndash\; and &lsquo\;position-taking&rsquo\; understood as a critical procedure aiming at the rational verification of a certain thesis (2020a\, 331\, 372). In the affective sphere\, he observes that the manifestation of a positive value often motivates an &ldquo\;affective position-taking&rdquo\; (<em>Gem&uuml\;tsstellungnahme</em>) as a response\, whereby the subject actively &ldquo\;turns&rdquo\; towards the object with pleasure (2020b\, 121). Lastly\, Husserl emphasizes the crucial role played by sedimented active &lsquo\;position-takings&rsquo\; in the constitution of a stable personal self (1952\, 112&ndash\;13).</p>\n<p>Finally\, Edith Stein also appeals to the terminology of &lsquo\;position-taking&rsquo\; in her 1922 <em>Beitr&auml\;ge zur philosophischen Begr&uuml\;ndung der Psychologie und der Geisteswissenschaften</em> (2010\, 49\, 133). Following von Hildebrand and Husserl\, she asserts that an emotion &ndash\; for instance\, joy &ndash\; is not a &ldquo\;knowledge-taking of the value&rdquo\; (<em>Wertkenntnisnahme</em>) &ndash\; for instance of beauty &ndash\; but rather a subjective stance towards the axiological object\, and thus a &ldquo\;response&rdquo\; (<em>Antwort</em>) thereto.</p>\n<p>The concept of <em>Stellungnahme</em> thus assumes a variety of functions within early phenomenology. This variety reveals the richness and power of this notion\, whose applications range from theoretical philosophy to the philosophy of emotion and to ethics\; yet it also challenges the unity of this concept and calls into question the compatibility of these diverse uses\, across authors and within the work of particular phenomenologists &ndash\; e.g.\, Husserl.</p>\n<p>Against this background\, the aim of this meeting is to advance the literature &ndash\; whose (scarce) accounts of <em>Stellungnahme</em> have been limited to individual authors (Carta and Delamare\, forthcoming\; Delamare 2025\; De Monticelli 2011\; Jacobs 2016\; Jardine 2020\; Loidolt 2021\; Magr&igrave\; 2022\; M&uuml\;ller 2020\; Salice 2015\; Uemura and Salice 2019)&nbsp\;&ndash\; by offering an overview of &lsquo\;position-taking&rsquo\; among early phenomenologists. To do so\, the first objective is to study the influences\, continuities\, and tensions between the accounts they propose. Emphasis will also be placed on the sources of the concept of <em>Stellungnahme</em>. In particular\, the psychologist Hugo M&uuml\;nsterberg (a student of Wundt) already uses this term in his <em>Grundz&uuml\;ge der Psychologie</em> (1900)\, seemingly with a meaning very close to Reinach&rsquo\;s. In addition\, in his 1911 essay\, Reinach explicitly refers to the works of Windelband (1884) and to Brentano&rsquo\;s theory of judgment (Brentano 1874\, 262). Finally\, a third line of inquiry will be the potential relevance of this terminology for contemporary issues\, such as epistemic agency (Jacobs 2021) or the reactional nature of emotions (M&uuml\;ller 2018).</p>\n<p>Suggested topics</p>\n<p>We welcome presentations on topics including\, but not limited to\, the following:</p>\n<p>-&nbsp\;&nbsp\;&nbsp\;&nbsp\;&nbsp\;&nbsp\;&nbsp\;&nbsp\;&nbsp\; The historical origins of the concept of <em>Stellungnahme</em> as used by Husserl and the Munich-G&ouml\;ttingen Circle.</p>\n<p>-&nbsp\;&nbsp\;&nbsp\;&nbsp\;&nbsp\;&nbsp\;&nbsp\;&nbsp\;&nbsp\; The mutual influences of the members of the Munich-G&ouml\;ttingen Circle as they develop their understanding of <em>Stellungnahme</em>.</p>\n<p>-&nbsp\;&nbsp\;&nbsp\;&nbsp\;&nbsp\;&nbsp\;&nbsp\;&nbsp\;&nbsp\; The unity\, diversity\, and evolution of the meaning of <em>Stellungnahme</em> within early phenomenology.</p>\n<p>-&nbsp\;&nbsp\;&nbsp\;&nbsp\;&nbsp\;&nbsp\;&nbsp\;&nbsp\;&nbsp\; &lsquo\;Position-taking&rsquo\; understood minimally as &lsquo\;belief&rsquo\; or &lsquo\;positional act&rsquo\;. The doxic modification introduced by the phenomenological <em>epoch&eacute\;</em> &ndash\; which brackets all <em>Stellungnahmen</em> (Husserl 1976\, 63) &ndash\; can also be investigated in this perspective.</p>\n<p>-&nbsp\;&nbsp\;&nbsp\;&nbsp\;&nbsp\;&nbsp\;&nbsp\;&nbsp\;&nbsp\; &lsquo\;Position-taking&rsquo\; understood maximally as a critical procedure\, based on doubt and intellectual deliberation.</p>\n<p>-&nbsp\;&nbsp\;&nbsp\;&nbsp\;&nbsp\;&nbsp\;&nbsp\;&nbsp\;&nbsp\; <em>Stellungnahme</em> in the affective sphere\, especially the distinction between value-feelings&nbsp\;&ndash\; in which values are known &ndash\; and emotions as responses.</p>\n<p>-&nbsp\;&nbsp\;&nbsp\;&nbsp\;&nbsp\;&nbsp\;&nbsp\;&nbsp\;&nbsp\; <em>Stellungnahme</em> in the conative\, volitional\, and practical sphere.</p>\n<p>-&nbsp\;&nbsp\;&nbsp\;&nbsp\;&nbsp\;&nbsp\;&nbsp\;&nbsp\;&nbsp\; <em>Stellungnahme</em>\, agency\, freedom\, and the constitution of an active and stable personality.</p>\n<p>-&nbsp\;&nbsp\;&nbsp\;&nbsp\;&nbsp\;&nbsp\;&nbsp\;&nbsp\;&nbsp\; &lsquo\;Position-taking&rsquo\; and related notions &ndash\; e.g.\, &lsquo\;knowledge-taking&rsquo\; (<em>Kenntnisnahme</em>)\, &lsquo\;acknowledgment&rsquo\; (<em>Anerkennung</em>)\, or &lsquo\;approval&rsquo\; (<em>Billigung</em>) (Carta 2024).</p>\n<p>-&nbsp\;&nbsp\;&nbsp\;&nbsp\;&nbsp\;&nbsp\;&nbsp\;&nbsp\;&nbsp\; The influence of early phenomenology&rsquo\;s concept of <em>Stellungnahme</em> on later phenomenology &ndash\; e.g.\, Stavenhagen (1925\; Smith 1982\, 312) &ndash\; as well as on later philosophy more broadly.</p>\n<p>-&nbsp\;&nbsp\;&nbsp\;&nbsp\;&nbsp\;&nbsp\;&nbsp\;&nbsp\;&nbsp\; The significance of early phenomenology&rsquo\;s concept of <em>Stellungnahme</em> for contemporary debates.</p>\n<p>Bibliography</p>\n<p>Brentano\, Franz. 1874. <em>Psychologie vom empirischen Standpunkt</em>. Leipzig: Duncker &amp\; Humblot.</p>\n<p>Carta\, Emanuela. 2024. Approval\, reflective emotions\, and virtue: sentimentalist elements in Husserl&rsquo\;s philosophy. <em>British Journal for the History of Philosophy</em> 32: 1329&ndash\;1349.</p>\n<p>Carta\, Emanuela and Delamare\, Alexis. Forthcoming. Husserl on position-taking (<em>Stellungnahme</em>). In <em>Husserl&rsquo\;s Studien zur Struktur des Bewusstseins</em>\, ed. Emanuela Carta\, Gabriel Barroso\, and Julia Jansen. Cham: Springer.</p>\n<p>De Monticelli\, Roberta. 2011. Alles Leben ist Stellungnehmen &ndash\; Die Person als praktisches Subjekt. In <em>Die Aktualit&auml\;t Husserls</em>\, ed. Marisa Scherini\, Christopher Erhard\, and Verena Mayer\, 39&ndash\;55. Freiburg: Alber.</p>\n<p>Delamare\, Alexis. 2024. The development of emotional responsivism in the Munich-G&ouml\;ttingen Circle. <em>The New Yearbook for Phenomenology and Phenomenological Philosophy</em> 22: 158&ndash\;175.</p>\n<p>Delamare\, Alexis. 2025. Ultimate Rationality. Husserl on Critical Position-Taking (<em>Stellungnahme</em>) in the Theoretical and Axiological Spheres. <em>Husserl Studies</em> 41: 1&ndash\;21.</p>\n<p>Delamare\, Alexis. 2026. Edmund Husserl on Position-Taking (<em>Stellungnahme</em>) as the Essence of Human Life. <em>Human Studies</em>: 1&ndash\;19.</p>\n<p>Drummond\, John J. 2007. <em>Historical Dictionary of Husserl&rsquo\;s Philosophy</em>. Lanham\, MD: Scarecrow Press.</p>\n<p>DuBois\, James M. 2002. Adolf Reinach: Metaethics and the Philosophy of Law. In <em>Phenomenological Approaches to Moral Philosophy</em>\, ed. John J. Drummond and Lester E. Embree\, 327&ndash\;346. Dordrecht: Springer.</p>\n<p>Husserl\, Edmund. 1952. <em>Ideen zu einer reinen Ph&auml\;nomenologie und ph&auml\;nomenologischen Philosophie. Zweites Buch: Ph&auml\;nomenologische Untersuchungen zur Konstitution (Hua&nbsp\;IV)</em>. Edited by Marly Biemel. Den Haag: Martinus Nijhoff.</p>\n<p>Husserl\, Edmund. 1976. <em>Ideen zu einer reinen Ph&auml\;nomenologie und ph&auml\;nomenologischen Philosophie. Erstes Buch: allgemeine Einf&uuml\;hrung in die reine Ph&auml\;nomenologie (Hua III.1)</em>. Edited by Karl Schuhmann. Den Haag: Martinus Nijhoff.</p>\n<p>Husserl\, Edmund. 1980. <em>Phantasie\, Bildbewusstsein\, Erinnerung. Zur Ph&auml\;nomenologie der anschaulichen Vergegenw&auml\;rtigungen. Texte aus dem Nachlass (1898&ndash\;1925) (Hua XXIII)</em>. Edited by Eduard Marbach. Den Haag: Martinus Nijhoff.</p>\n<p>Husserl\, Edmund. 2020a. <em>Studien zur Struktur des Bewu&szlig\;tseins&ndash\;Teilband I: Verstand und Gegenstand. Texte aus dem Nachlass (1909&ndash\;1927) (Hua XLIII/1)</em>. Edited by Ullrich Melle and Thomas Vongehr. Cham: Springer.</p>\n<p>Husserl\, Edmund. 2020b. <em>Studien zur Struktur des Bewu&szlig\;tseins&ndash\;Teilband II: Gef&uuml\;hl und Wert. Texte aus dem Nachlass (1896&ndash\;1925) (Hua XLIII/2)</em>. Edited by Ullrich Melle and Thomas Vongehr. Cham: Springer.</p>\n<p>Jacobs\, Hanne. 2016. Husserl on Reason\, Reflection\, and Attention. <em>Research in Phenomenology</em> 46: 257&ndash\;276.</p>\n<p>Jacobs\, Hanne. 2021. Husserl on Epistemic Agency. In <em>The Husserlian Mind</em>\, ed. Hanne Jacobs\, 340&ndash\;351. London\; New York: Routledge.</p>\n<p>Jardine\, James. 2020. Edmund Husserl. In <em>The Routledge Handbook of Phenomenology of Emotion</em>\, ed. Thomas Szanto and Hilge Landweer\, 53&ndash\;62. London\; New York: Routledge.</p>\n<p>Jardine\, James. 2022. <em>Empathy\, Embodiment\, and the Person. Husserlian Investigations of Social Experience and the Self</em>. Cham: Springer.</p>\n<p>Loidolt\, Sophie. 2021. The person as a fragile project: On personhood and practical agency in Husserl. In <em>The Husserlian Mind</em>\, ed. Hanne Jacobs\, 393&ndash\;406. London\; New York: Routledge.</p>\n<p>Magr&igrave\;\, Elisa. 2022. (Un)learning to see others. Perception\, types\, and position-taking in Husserl&rsquo\;s phenomenology. In <em>Empathy\, Intersubjectivity\, and the Social World</em>\, ed. Anna Bortolan and Elisa Magr&igrave\;\, 261&ndash\;278. Berlin\; Boston: De Gruyter.</p>\n<p>M&uuml\;ller\, Jean Moritz. 2018. Emotion as Position-Taking. <em>Philosophia</em> 46: 525&ndash\;540.</p>\n<p>M&uuml\;ller\, Jean Moritz. 2020. Dietrich von Hildebrand. In <em>The Routledge Handbook of Phenomenology of Emotion</em>\, ed. Thomas Szanto and Hilge Landweer\, 114&ndash\;122. Routledge.</p>\n<p>Mulligan\, Kevin. 2013. Acceptance\, Acknowledgment\, Affirmation\, Agreement\, Assertion\, Belief\, Certainty\, Conviction\, Denial\, Judgment\, Refusal and Rejection. In <em>Judgement and Truth in Early Analytic Philosophy and Phenomenology</em>\, ed. Mark Textor\, 97&ndash\;136. Basingstoke: Palgrave Macmillan.</p>\n<p>M&uuml\;nsterberg\, Hugo. 1900. <em>Grundz&uuml\;ge der Psychologie I</em>. Leipzig: Johann Ambrosius Barth.</p>\n<p>Reinach\, Adolf. 1911. Zur Theorie des negativen Urteils. In <em>M&uuml\;nchener Philosophische Abhandlungen. Theodor Lipps zu seinem sechzigsten Geburtstag gewidmet von fr&uuml\;heren Sch&uuml\;lern</em>\, 196&ndash\;254. Leipzig: Johann Ambrosius Barth.</p>\n<p>Reinach\, Adolf. 1912. Die &Uuml\;berlegung: ihre ethische und rechtliche Bedeutung I. <em>Zeitschrift f&uuml\;r Philosophie und philosophische Kritik</em> 148: 181&ndash\;196.</p>\n<p>Reinach\, Adolf. 1913. Die &Uuml\;berlegung: ihre ethische und rechtliche Bedeutung II. <em>Zeitschrift f&uuml\;r Philosophie und philosophische Kritik</em> 149: 30&ndash\;58.</p>\n<p>Reinach\, Adolf. 1982. On the Theory of the Negative Judgment. In <em>Parts and Moments. Studies in Logic and Formal Ontology</em>\, ed. Barry Smith\, trans. Barry Smith\, 315&ndash\;378. M&uuml\;nchen\; Wien: Philosophia Verlag.</p>\n<p>Reinach\, Adolf. 2017. <em>Three Texts on Ethics</em>. Translated by James H. Smith. M&uuml\;nchen\; Wien: Philosophia Verlag.</p>\n<p>Salice\, Alessandro. 2015. Actions\, Values\, and States of Affairs in Hildebrand and Reinach. <em>Studia Phaenomenologica</em> 15: 259&ndash\;80.</p>\n<p>Salice\, Alessandro. 2025. The Phenomenology of the Munich and G&ouml\;ttingen Circles. In <em>The Stanford Encyclopedia of Philosophy</em>\, ed. Edward N. Zalta and Uri Nodelman\, Fall 2025. Metaphysics Research Lab\, Stanford University.</p>\n<p>Smith\, Barry. 1982. Introduction to Adolf Reinach &ldquo\;On the Theory of the Negative Judgment.&rdquo\; In <em>Parts and Moments. Studies in Logic and Formal Ontology</em>\, ed. Barry Smith\, 289&ndash\;314. M&uuml\;nchen\; Wien: Philosophia Verlag.</p>\n<p>Stavenhagen\, Kurt. 1925. <em>Absolute Stellungnahmen. Eine ontologische Untersuchung &uuml\;ber das Wesen der Religion</em>. Erlangen: Verlag der philosophischen Akademie.</p>\n<p>Stein\, Edith. 2010. <em>Beitr&auml\;ge zur philosophischen Begr&uuml\;ndung der Psychologie und der Geisteswissenschaften</em>. Freiburg: Herder.</p>\n<p>Uemura\, Genki\, and Alessandro Salice. 2019. Motives in Experience: Pf&auml\;nder\, Geiger\, and Stein. In <em>Phenomenology and Experience</em>\, ed. Antonio Cimino and Cees Leijenhorst\, 129&ndash\;149. Leiden\; Boston: Brill.</p>\n<p>Vendrell Ferran\, &Iacute\;ngrid. 2008. <em>Die Emotionen: Gef&uuml\;hle in der realistischen Ph&auml\;nomenologie</em>. Berlin: Akademie Verlag.</p>\n<p>Vendrell Ferran\, &Iacute\;ngrid. 2015. The Emotions in Early Phenomenology. <em>Studia Phaenomenologica</em> 15: 349&ndash\;374.</p>\n<p>Von Hildebrand\, Dietrich. 1916. Die Idee der sittlichen Handlung. <em>Jahrbuch f&uuml\;r Philosophie und ph&auml\;nomenologische Forschung</em> 3: 126&ndash\;252.</p>\n<p>Windelband\, Wilhelm. 1884. Beitr&auml\;ge zur Lehre vom negativen Urteil. In <em>Stra&szlig\;burger Abhandlungen zur Philosophie: Eduard Zeller zu seinem siebzigsten Geburtstage</em>\, 165&ndash\;195. T&uuml\;bingen.</p>
ORGANIZER;CN=Alexis Delamare:
METHOD:PUBLISH
END:VEVENT
END:VCALENDAR
