BEGIN:VCALENDAR
PRODID:-//Grails iCalendar plugin//NONSGML Grails iCalendar plugin//EN
VERSION:2.0
CALSCALE:GREGORIAN
METHOD:PUBLISH
BEGIN:VEVENT
DTSTAMP:20260421T163118Z
DTSTART;TZID=Europe/Paris:20170720T050000
DTEND;TZID=Europe/Paris:20171012T130000
SUMMARY:Les 9 secrets des ventes reussi sur  le bon coin
UID:20260423T205108Z-iCalPlugin-Grails@philevents-web-6b96c54f56-bljdq
TZID:Europe/Paris
LOCATION:Paris\, France
DESCRIPTION:<p>Les 9 secrets de tr&egrave\;s r&eacute\;ussie ventes le bon coin</p>\n<p>La plupart d'entre vous ont sans doute utilis&eacute\; le bon coin pour les raisons habituelles. Soit vous &ecirc\;tes &agrave\; la recherche de quelque chose (une maison\, des trucs utilis&eacute\;s\, un emploi\, ou peut-&ecirc\;tre un partenaire) ou que vous avez quelque chose &agrave\; vendre ou offrir. De toute fa&ccedil\;on\, il y a des trucs et astuces que vous pouvez utiliser pour tirer le meilleur parti du service. (Voir aussi: <a  title="le  bon coin" href="http://www.lepireduboncoin.com/">Shopping le bon coin</a> 101)</p>\n<p>En fait\, juste un peu de connaissance peut faire la diff&eacute\;rence entre la vente d'un article en jours (voire quelques heures) et de voir languir dans les archives pendant un mois avant de reposter. Suivez ces instructions\, et vous pouvez obtenir de bien meilleurs r&eacute\;sultats la prochaine fois que vous postez quelque chose sur le bon coin.</p>\n<p>Remarque: Ce sont des conseils pour obtenir des r&eacute\;sultats de vente\, et non <a  title="le  bon coin" href="http://www.lebonsiteimmobilier.org">Conseils g&eacute\;n&eacute\;raux le bon coin</a>. Vous devez bien s&ucirc\;r &ecirc\;tre prudents lorsque acceptant de rencontrer des gens\, de donner vos renseignements personnels\, et ainsi de suite. Pour ce genre de conseils\, s'il vous pla&icirc\;t regarder &agrave\; la s&eacute\;curit&eacute\; et escroquerie informations de le bon coin\, et de v&eacute\;rifier les forums tr&egrave\;s utiles le bon coin sur votre site local.<br> 1. Repost garder votre annonce sur le dessus</p>\n<p>Ce ne serait pas bien si vous pouviez juste appuyer sur un bouton et votre annonce de la semaine derni&egrave\;re tirerait vers le haut de la page aujourd'hui? Eh bien\, d&eacute\;sol&eacute\;\, cela n'arrivera pas. le bon coin a mis en place des mesures pour emp&ecirc\;cher cela. C'est surtout pour arr&ecirc\;ter mails affiches d'engloutir le site. Mais il ya des solutions que les spammeurs ne peuvent pas &ecirc\;tre d&eacute\;rang&eacute\; par\, et vous devriez les consid&eacute\;rer si vous voulez vraiment obtenir votre annonce remarqu&eacute\;. Les acheteurs ne veulent pas passer par des pages et des pages de vieux messages\, et si vous attendez 30 jours pour rediffuser (le temps est n&eacute\;cessaire pour que votre annonce expire)\, il pourrait prendre un certain temps pour l'obtenir vendu. Si vous n'avez pas eu une r&eacute\;ponse dans quelques jours de l'affichage\, il est probablement temps de reposter.</p>\n<p>La vid&eacute\;o suivante vous montrera tout ce que vous devez savoir\, mais il ya un guide ci-dessous abr&eacute\;g&eacute\;e &eacute\;tape-par-&eacute\;tape.</p>\n<p>Voir la vid&eacute\;o</p>\n<p>Assurez-vous que vous avez un <a  title="le  bon coin" href="https://adapt.nd.edu/groups/petitesannonces">compte le bon coin</a> avant de commencer &agrave\; poster des annonces. Vous n'avez pas besoin\, mais elle rend la vie tellement plus facile.</p>\n<p>Publiez votre annonce dans la mani&egrave\;re habituelle (en suivant les conseils ci-dessous).</p>\n<p>Le lendemain\, vous connecter &agrave\; nouveau\, faites un clic droit sur l'annonce que vous souhaitez republier et l'ouvrir dans un nouvel onglet.</p>\n<p>Faites un clic droit sur "modifier cette annonce"\, et ouvrir que dans un nouvel onglet.</p>\n<p>Faites un clic droit sur la "cat&eacute\;gorie" vous avez votre annonce publi&eacute\;e dans\, et ouvrez ce dans un nouvel onglet. (Tous ces onglets permettent l'&eacute\;dition de va-et-vient rapide.)</p>\n<p>Cliquez sur le bouton "post" &agrave\; l'extr&ecirc\;me droite et s&eacute\;lectionnez une cat&eacute\;gorie et l'emplacement.</p>\n<p>Retour &agrave\; l'onglet contenant votre annonce originale et copier et coller chaque section dans le nouveau mod&egrave\;le vierge. Lorsque vous avez termin&eacute\;\, cliquez sur Continuer.</p>\n<p>Remplissez le code captcha ennuyeux.</p>\n<p>Maintenant\, retournez &agrave\; votre ancienne annonce (il devrait &ecirc\;tre sur le deuxi&egrave\;me onglet) et supprimez-le.</p>\n<p>Votre annonce doit maintenant &ecirc\;tre affich&eacute\; de nouveau au sommet de la cat&eacute\;gorie.</p>\n<p>2. Toujours poster une image d'une bonne image</p>\n<p>Nous sommes des cr&eacute\;atures visuelles. Si vous vendez quelque chose\, que ce soit une maison\, un vieux t&eacute\;l&eacute\;viseur\, ou m&ecirc\;me vous-m&ecirc\;me dans une annonce personnelle\, poster une image. La majorit&eacute\; des gens vont cliquer sur les annonces bas&eacute\;es sur des images d'abord. En fait\, quand je suis &agrave\; la recherche de quelque chose utilis&eacute\;e\, je filtrer les annonces qui n'ont pas les images. Mon raisonnement - si la personne n'est pas affichera une image\, il peut y avoir quelque chose de mal avec l'article. Et quand vous postez des photos de l'article\, assurez-vous qu'ils sont bons\,\, photos en couleurs claires et nettes. Ne prenez pas fragile\, photo hors-focus avec votre t&eacute\;l&eacute\;phone portable et appeler cela un jour. Cela irrite juste l'acheteur. Ils vont passer.</p>\n<p>photo pourri</p>\n<p>Cr&eacute\;dit photo: Lumachrome<br> 3. Ne pas poser une question dans le titre</p>\n<p>Si vous postez un emploi\, une annonce personnelle\, ou peut-&ecirc\;tre un service\, il peut travailler &agrave\; votre avantage. Les gens sont attir&eacute\;s par des questions si elles sont appropri&eacute\;es. Les questions sont vraiment efficace pour les rencontres. Mais si vous vendez quelque chose de tangible\, comme une maison\, une voiture\, ou un objet que vous ne voulez pas plus\, je vous sugg&egrave\;re fortement de garder le titre purement informatif. Consid&eacute\;rez ces deux titres:</p>\n<p>Phillips 27 "TV LCD\, comme neuf\, dans la case\, $ 230.</p>\n<p>Comment pouvez-vous r&eacute\;sister &agrave\; cette magnifique nouvelle "TV LCD 27 Phillips? Seulement $ 230.</p>\n<p>Elles contiennent essentiellement les m&ecirc\;mes informations. Cependant\, la premi&egrave\;re est une description sans fioritures. La seconde se sent comme parler de marketing salesy\, et qui me fait me sentir comme un vendeur de voitures d'occasion essaie de me vendre vieille bagnole avec un nouveau travail de peinture. Soyez direct\, tout comme toute inscription dans un catalogue de Best Buy ou Target. Cela va doubler si vous vendez une maison. Dites-le comme il est\, et ne pas essayer d'&ecirc\;tre intelligent. Il vous blesser.<br> 4. Soyez aussi sp&eacute\;cifique que vous pouvez &ecirc\;tre</p>\n<p>Rappelez-vous\, vous essayez de vendre quelque chose que les gens vont avoir &agrave\; sortir de leur fa&ccedil\;on de venir chercher. Avant de passer le temps et l'argent du gaz pour se rendre &agrave\; votre domicile ou votre lieu de travail\, ils veulent en savoir autant que possible sur la question. J'ai vu les annonces qui avait &agrave\; peine une ligne &eacute\;crites &agrave\; leur sujet.</p>\n<p>Biblioth&egrave\;que. Vente rapide. Cash. $ 25 ENTREPRISE.</p>\n<p>Oui\, tr&egrave\;s bien. Mais une annonce qui a des photos de la biblioth&egrave\;que ainsi que les dimensions\, le type de mat&eacute\;riau\, l'&eacute\;tat\, l'histoire\, le fabricant et le lieu\, ainsi\, que l'on est beaucoup plus attrayante. Cela en dit long sur le vendeur trop. On ne peut gu&egrave\;re &ecirc\;tre d&eacute\;rang&eacute\; pour poster cette annonce\; l'autre a fait un bon travail. Cela ne peut pas &ecirc\;tre un vrai reflet du type de personne que vous &ecirc\;tes r&eacute\;ellement ou l'&eacute\;tat de l'article est que vous vendez\, mais sur le bon coin\, les premi&egrave\;res impressions sont tout.<br> 5. Faites vos devoirs</p>\n<p>Et vous pensiez que les devoirs &eacute\;taient tous derri&egrave\;re vous. le bon coin est vaste\, et des millions d'articles sont affich&eacute\;s sur chaque ann&eacute\;e. Donc\, si vous vendez votre vieux canap&eacute\;\, comment vous assurez-vous que votre offre est plus attrayante? Le meilleur moyen est de passer du temps de qualit&eacute\; sur le bon coin. Rechercher les annonces\, et voir ce que canap&eacute\;s similaires sont en cours pour. Voyez-vous un canap&eacute\; qui a &eacute\;t&eacute\; &eacute\;crit &agrave\; plusieurs reprises? Quel &eacute\;tait le probl&egrave\;me? Pourquoi ne pas vendre? Prix trop &eacute\;lev&eacute\;? Pas de photos ou de mauvaises images? Vraiment creuser profond&eacute\;ment. Une fois que vous obtenez la configuration du terrain\, vous devriez &ecirc\;tre capable d'&eacute\;crire une annonce convaincante. Mais il ya l'autre partie d&eacute\;licate ...</p>\n<p>trop cher?</p>\n<p>Cr&eacute\;dit photo: merfam<br> 6. Assurez-vous que le prix est juste</p>\n<p>Comme la plupart des n&eacute\;gociations dans la vie\, celui-ci est tout au sujet de compromis entre ce que vous voulez et ce que l'acheteur veut. Les acheteurs veulent payer aussi peu que possible\, et que vous voulez obtenir autant que vous le pouvez. Donc poster un article avec un prix qui est beaucoup trop &eacute\;lev&eacute\;\, et vous ne recevrez pas les piq&ucirc\;res. Postez trop faible\, et vous perdez votre pouvoir de n&eacute\;gociation. le bon coin acheteurs seront toujours essayer de frapper l'argent hors\, et vous seriez sage de tenir compte que po G&eacute\;n&eacute\;ralement\, je prends le plus bas prix absolu que je serais pr&ecirc\;t &agrave\; accepter et &agrave\; ajouter 20-25% &agrave\; elle. Ce n'est pas applicable pour tout (une maison ou une voiture par exemple)\, mais c'est une bonne r&egrave\;gle de base. Diffusez votre canap&eacute\; pour 300 $\, et de prendre pas moins de $ 225. Il ya des chances que vous obtiendrez 250 $ pour elle\, et tout le monde est heureux. Et le plus important - accepter l'argent comptant seulement\, de pr&eacute\;f&eacute\;rence en billets de 20 $ ou moins.<br> 7. Associez des objets qui vont ensemble</p>\n<p>Cela peut sembler &eacute\;vident\, mais beaucoup de gens va lister une cr&egrave\;che et un planeur dans les postes distincts. Mais les chances sont\, si quelqu'un cherche un\, ils peuvent tr&egrave\;s bien avoir besoin de l'autre\, trop. Donc les jumeler. Offrir un rabais de prendre &agrave\; la fois de vos mains. Si vous &ecirc\;tes pr&ecirc\;t &agrave\; les s&eacute\;parer\, vous pouvez mentionner que bien. Votre seule annonce pourrait vendre deux oiseaux avec une poste.<br> 8. Soyez un Eager Beaver</p>\n<p>Je ne suis pas un grand fan de instantan&eacute\;ment r&eacute\;pondre aux courriels ou des appels. Mais en tant que vendeur sur le bon coin\, vous augmentez vos chances de vendre vos articles si vous envoyer ou appeler les gens d&egrave\;s que vous le pouvez. La plupart des gens sauter plusieurs e-mails &agrave\; diff&eacute\;rents vendeurs\, et le premier &agrave\; r&eacute\;agir obtient la vente. Assurez-vous que vous &ecirc\;tes le premier\, et &ecirc\;tre poli et enthousiaste. Si vous partez pour un voyage d'affaires ou en vacances\, publier votre annonce lorsque vous revenez. Et si vous vous trouvez face &agrave\; un d&eacute\;luge de courriels\, essayez Texter pour minimiser l'usure de vos doigts.<br> 9. Consid&eacute\;rer les m&eacute\;tiers</p>\n<p>Le troc est bel et bien vivant\, et c'est sur le bon coin. Ces jours-ci\, les gens ont beaucoup de choses qu'ils ne veulent pas\, et beaucoup de choses qu'ils font. Un d&eacute\;chets de l'homme est le tr&eacute\;sor d'un autre homme\, si il ya quelque chose que vous voulez c'est aussi bon que l'argent\, mentionner que trop.</p>\n<p>Apr&egrave\;s ces neuf conseils devrait obtenir vos articles se d&eacute\;placer plus rapidement que la cr&egrave\;me solaire dans une vague de chaleur. Et si vous avez des bons conseils de vente\, nous en informer. Oh\, mais avant que je signe\, un dernier mot ...<br> Soyez un bon le bon coiner et supprimer des &eacute\;l&eacute\;ments qui ont vendu!</p>\n<p>Il m'est arriv&eacute\; de nombreuses fois. Je cherche quelque chose\, trouver ce que je cherche\, et d&eacute\;coller un e-mail. Puis-je obtenir une r&eacute\;ponse en disant: &laquo\;D&eacute\;sol&eacute\;\, c'est vendu." Eh bien\, pourquoi c'est l'annonce encore debout? Plus g&ecirc\;nant encore\, que les jours passent\, vous recherchez le m&ecirc\;me &eacute\;l&eacute\;ment\, et qui annonce est toujours l&agrave\;! S'il vous pla&icirc\;t\, jonchent le bon coin avec vos anciennes annonces n'aide pas cette communaut&eacute\; inestimable.</p>
ORGANIZER:
METHOD:PUBLISH
END:VEVENT
END:VCALENDAR
