BEGIN:VCALENDAR
PRODID:-//Grails iCalendar plugin//NONSGML Grails iCalendar plugin//EN
VERSION:2.0
CALSCALE:GREGORIAN
METHOD:PUBLISH
BEGIN:VEVENT
DTSTAMP:20260421T140748Z
DTSTART;TZID=Europe/London:20120628T100000
DTEND;TZID=Europe/London:20120629T180000
SUMMARY:Locke Workshop
UID:20260423T143837Z-iCalPlugin-Grails@philevents-web-6b96c54f56-bljdq
TZID:Europe/London
LOCATION:Saint Andrews\, United Kingdom
DESCRIPTION:<p><strong>Schedule</strong></p>\n<p><strong>Thursday\, 28 June</strong></p>\n<p>9:45-11:15 &nbsp\;Jessica Gordon-Roth (University of Illinois at Chicago)\, &lsquo\;A Reconsideration of Locke on Persons as Modes&rsquo\;</p>\n<p>Commentator: Ruth Boeker (St Andrews)</p>\n<p>11:30-13:00 &nbsp\;Julie Walsh (University of California\, San Diego)\, &lsquo\;Locke and Limborch on the Nature and Extent of Human Powers&rsquo\;</p>\n<p>Commentator: Markku Roinila (Academy of Finland/IASH Edinburgh)</p>\n<p>Lunch</p>\n<p>14:30-16:00 &nbsp\;Martha Brandt Bolton (Rutgers)\, &lsquo\;Locke&rsquo\;s Anti-Essentialism&rsquo\;</p>\n<p>16:15-17:45 &nbsp\;Patrick Connolly (UNC Chapel Hill)\, &lsquo\;Lockean Superaddition and Lockean Humility&rsquo\;</p>\n<p>Commentator: Han-Kyul Kim (Temple University)</p>\n<p>Dinner</p>\n<p><strong>Friday\, 29 June&nbsp\;</strong></p>\n<p>9:30-11:00 &nbsp\;Edwin McCann (University of Southern California)\, &lsquo\;How Locke didn&rsquo\;t argue for the primary/secondary quality distinction&rsquo\;</p>\n<p>Commentator: Allison Kuklok (Harvard)</p>\n<p>11:15-12:45 &nbsp\;Vili L&auml\;hteenm&auml\;ki (Jyv&auml\;skyl&auml\;/HU Berlin)\, &lsquo\;Locke on Consciousness of Mental Acts&rsquo\;</p>\n<p>Commentator: Piotr Szalek (Catholic University of Lublin/ Cambridge)</p>\n<p>Lunch</p>\n<p>14:00-15:30 &nbsp\;Shelley Weinberg (University of Illinois at Urbana-Champaign)\, &lsquo\;Locke on Knowing our Own Ideas&rsquo\;</p>\n<p>Commentator: Matt Priselac (UNC Chapel Hill)</p>\n<p>Please contact Ruth Boeker (rb294@st-andrews.ac.uk) if you plan to attend.&nbsp\;Information about how to travel to St Andrews can be found here:</p>\n<p><a target="_blank">http://www.st-andrews.ac.uk/visiting/</a></p>
ORGANIZER:
METHOD:PUBLISH
END:VEVENT
END:VCALENDAR
