BEGIN:VCALENDAR
PRODID:-//Grails iCalendar plugin//NONSGML Grails iCalendar plugin//EN
VERSION:2.0
CALSCALE:GREGORIAN
METHOD:PUBLISH
BEGIN:VEVENT
DTSTAMP:20260419T125425Z
DTSTART;TZID=Europe/Dublin:20120331T100000
DTEND;TZID=Europe/Dublin:20120331T180000
SUMMARY:Encountering the Other: Philosophical Perspectives on Recognition
UID:20260420T092433Z-iCalPlugin-Grails@philevents-web-f5d4878dd-nv7xt
TZID:Europe/Dublin
LOCATION:Dublin\, Ireland
DESCRIPTION:<p>The workshop contrasts recognitive perspectives on social interaction\,&nbsp\;particularly from the German critical theory tradition\, with a range of&nbsp\;alternative philosophical perspectives\, particularly drawn from contemporary&nbsp\;French philosophy and phenomenology\, which explore alternative&nbsp\;understandings and modalities through which social interaction is&nbsp\;experienced. The papers will draw on the work of philosophers such as Jean-Paul Sartre\, Axel Honneth\, Michel Foucault\, Paul Ricoeur\, Maurice Merleau-Ponty and others.<br><br><strong>Program</strong><br><br>9.45 am: &nbsp\; &nbsp\; &nbsp\; &nbsp\; &nbsp\;Welcome<br><br>10.00-11.00: &nbsp\; &nbsp\;Lois McNay (Oxford University)<br>&lsquo\;The Politics of Suffering and Recognition: Foucault contra Honneth&rsquo\;<br><br>11.00-11.30: &nbsp\; &nbsp\;Coffee<br><br>11.30-12.30: &nbsp\; &nbsp\;Alice Le Goff (Universit&eacute\; Paris V Descartes)<br>&lsquo\;Recognition\, Freedom and Collective Action in Sartre&rsquo\;<br><br>12.30-13.30: &nbsp\; &nbsp\;Katherine Morris (Oxford University)<br>&lsquo\;Merleau-Ponty and Bodily Reciprocity: Understanding Other Others&rsquo\;<br><br>13.30-15.00 &nbsp\; &nbsp\; &nbsp\; Lunch<br><br>15.00-16.00 &nbsp\; &nbsp\; Arto Laitinen (University of Jyv&auml\;skyl&auml\;\, Finland)<br>&lsquo\;Ricoeur on Recognition: Fallible Man\, Oneself as Another and Course of<br>Recognition&rsquo\;<br><br>16.00-17.00 &nbsp\; &nbsp\; Robin Celikates (University of Amsterdam)<br>&lsquo\;Recognition and the Politics of Needs&rsquo\;<br><br><br>All welcome! If you would like to attend this event please email Danielle<br>Petherbridge (<a#0000cc\;" href="mailto:danielle.petherbridge@ucd.ie">danielle.petherbridge@ucd.ie</a>) or Luna Dolezal<br>(<a#0000cc\;" href="mailto:luna.dolezal@ucd.ie">luna.dolezal@ucd.ie</a>).</p>
ORGANIZER:
METHOD:PUBLISH
END:VEVENT
END:VCALENDAR
