BEGIN:VCALENDAR
PRODID:-//Grails iCalendar plugin//NONSGML Grails iCalendar plugin//EN
VERSION:2.0
CALSCALE:GREGORIAN
METHOD:PUBLISH
BEGIN:VEVENT
DTSTAMP:20260420T140426Z
DTSTART;TZID=Australia/Melbourne:20141023T121500
DTEND;TZID=Australia/Melbourne:20141023T141500
SUMMARY:Memory as a Source of Epistemic Justification
UID:20260420T200250Z-iCalPlugin-Grails@philevents-web-f5d4878dd-nv7xt
TZID:Australia/Melbourne
LOCATION:Old Physics Building\, Parkville Campus\, Melbourne\, Australia
DESCRIPTION:<p><strong>Abstract:</strong> Does memory only preserve epistemic justification over time\, or can memory also generate it? I argue that memory can generate justification based on a certain conception of mnemonic content. According to it\, our memories represent themselves as originating on past perceptions of objective facts. If this conception of mnemonic content is correct\, then what we are in a position to believe on the basis of memory always includes something that we were not in a position to believe before we utilised that capacity. For that reason\, a subject may be justified in believing a proposition on the basis of memory even if\, in the past\, she was not justified in believing it through any other source. The resulting picture of memory is a picture wherein the epistemically generative role of memory turns out to be grounded on its intentionally generative role.</p>
ORGANIZER:
METHOD:PUBLISH
END:VEVENT
END:VCALENDAR
