BEGIN:VCALENDAR
PRODID:-//Grails iCalendar plugin//NONSGML Grails iCalendar plugin//EN
VERSION:2.0
CALSCALE:GREGORIAN
METHOD:PUBLISH
BEGIN:VEVENT
DTSTAMP:20260421T114726Z
DTSTART;TZID=America/Toronto:20260601T050000
DTEND;TZID=America/Toronto:20260601T050000
SUMMARY:Synthese Topical Collection on Neuroscience and Its Philosophy
UID:20260423T071342Z-iCalPlugin-Grails@philevents-web-6b96c54f56-bljdq
TZID:America/Toronto
DESCRIPTION:<p>New due date: June 1\, 2026</p>\n<p>The journal Synthese publishes a Topical Collection on Neuroscience and Its Philosophy. In recent years\, this has been perhaps the highest profile venue explicitly devoted to articles in the philosophy of neuroscience.</p>\n<p>Anyone can submit their paper. Papers are processed\, accepted\, and published on an ongoing basis. There is no real deadline.</p>\n<p>Anyone doing good work in the philosophy of neuroscience is invited to submit their papers to Synthese's Topical Collection on Neuroscience and Its Philosophy. An explicit option Neuroscience and Its Philosophy is available in Editorial Manager (Synthese's online submission system).</p>\n<p>Contact:</p>\n<p>Gualtiero Piccinini (piccininig@missouri.edu)</p>\n<p>http://link.springer.com/journal/11229</p>
ORGANIZER:
METHOD:PUBLISH
END:VEVENT
END:VCALENDAR
