BEGIN:VCALENDAR
PRODID:-//Grails iCalendar plugin//NONSGML Grails iCalendar plugin//EN
VERSION:2.0
CALSCALE:GREGORIAN
METHOD:PUBLISH
BEGIN:VEVENT
DTSTAMP:20260421T142408Z
DTSTART;TZID=America/Toronto:20150501T050000
DTEND;TZID=America/Toronto:20150502T130000
SUMMARY:The 2015 John Locke Workshop
UID:20260423T152903Z-iCalPlugin-Grails@philevents-web-6b96c54f56-bljdq
TZID:America/Toronto
LOCATION:London\, Canada
DESCRIPTION:<p>UWO-CUNY John Locke Workshop</p>\n\n<p>May 1-3\, 2015</p>\n\n<p>London\, Ontario</p>\n\n\n\n<p><strong>Friday May 1</strong></p>\n\n<p>8:30-9:00&nbsp\;&nbsp\;&nbsp\;&nbsp\;&nbsp\;&nbsp\; Coffee</p>\n\n<p>9:00-10:15&nbsp\;&nbsp\;&nbsp\; Nathan Rockwood (Virginia Tech)&nbsp\; "Locke on Scientific Knowledge"</p>\n\n<p>&nbsp\;&nbsp\;&nbsp\;&nbsp\;&nbsp\;&nbsp\;&nbsp\;&nbsp\;&nbsp\;&nbsp\;&nbsp\;&nbsp\;&nbsp\;&nbsp\;&nbsp\;&nbsp\;&nbsp\;&nbsp\;&nbsp\;&nbsp\;&nbsp\;&nbsp\;Andrew Janiak (Duke) (commentator)</p>\n\n<p>10:15-10:45&nbsp\; Coffee Break</p>\n\n<p>10:45-12:00&nbsp\; Patrick Connolly (Iowa State) "Locke and the Methodology of Newton's <em>Principia</em>&rdquo\;</p>\n\n<p>&nbsp\;&nbsp\;&nbsp\;&nbsp\;&nbsp\;&nbsp\;&nbsp\;&nbsp\;&nbsp\;&nbsp\;&nbsp\;&nbsp\;&nbsp\;&nbsp\;&nbsp\;&nbsp\;&nbsp\;&nbsp\;&nbsp\;&nbsp\;&nbsp\;&nbsp\;Bill Harper (Western) (commentator)</p>\n\n<p>12:00-1:45&nbsp\;&nbsp\;&nbsp\; Lunch</p>\n\n<p>1:45-3:00&nbsp\;&nbsp\;&nbsp\;&nbsp\;&nbsp\;&nbsp\;Geoffrey Gorham (Macalester) and Ed Slowik (Winona State) "Locke on Temporal and Spatial Measures"</p>\n\n<p>&nbsp\;&nbsp\;&nbsp\;&nbsp\;&nbsp\;&nbsp\;&nbsp\;&nbsp\;&nbsp\;&nbsp\;&nbsp\; &nbsp\;&nbsp\;&nbsp\;&nbsp\;&nbsp\;&nbsp\;&nbsp\;&nbsp\;&nbsp\;&nbsp\;Katherine Dunlop (UT Austin) (commentator)</p>\n\n<p>3:00-3:30&nbsp\;&nbsp\;&nbsp\;&nbsp\;&nbsp\;&nbsp\; Rotman Speaker Reception</p>\n\n<p>3:30-5:00&nbsp\;&nbsp\;&nbsp\;&nbsp\;&nbsp\;&nbsp\; Peter Anstey (Sydney) (Rotman Speakers Series) &ldquo\;Locke on Measurement&rdquo\;</p>\n\n\n\n<p>7:00-10:00 &nbsp\;&nbsp\; Dinner</p>\n\n\n\n<p><strong>Saturday May 2</strong></p>\n\n<p>8:30-9:00&nbsp\;&nbsp\;&nbsp\;&nbsp\;&nbsp\;&nbsp\;Coffee</p>\n\n<p>9:00-10:15&nbsp\;&nbsp\;&nbsp\; Lex Newman (Utah) "Locke's Empiricism and His Mechanist Idea of Body"&nbsp\;</p>\n\n<p>&nbsp\;&nbsp\;&nbsp\;&nbsp\;&nbsp\;&nbsp\;&nbsp\;&nbsp\;&nbsp\;&nbsp\;&nbsp\;&nbsp\;&nbsp\;&nbsp\;&nbsp\;&nbsp\;&nbsp\;&nbsp\;&nbsp\;&nbsp\;&nbsp\;Antonia LoLordo (UVA) (commentator)</p>\n\n<p>10:15-10:45&nbsp\; Coffee Break</p>\n\n<p>10:45-12:00&nbsp\; Allison Kuklok (St. Michael&rsquo\;s) "Locke\, Hume\, and Causal Power in Bodies"&nbsp\;</p>\n\n<p>&nbsp\;&nbsp\;&nbsp\;&nbsp\;&nbsp\;&nbsp\;&nbsp\;&nbsp\;&nbsp\;&nbsp\;&nbsp\;&nbsp\;&nbsp\;&nbsp\;&nbsp\;&nbsp\;&nbsp\;&nbsp\;&nbsp\;&nbsp\;&nbsp\;Michael Jacovides (Purdue) (commentator)</p>\n\n<p>12:00-1:30&nbsp\;&nbsp\;&nbsp\; Lunch</p>\n\n<p>1:30-2:45&nbsp\;&nbsp\;&nbsp\;&nbsp\;&nbsp\;&nbsp\;Benjamin Hill (Western) &ldquo\;Natural Powers in Locke&rsquo\;s Philosophy of Science: A Contradiction?&rdquo\;</p>\n\n<p>&nbsp\;&nbsp\;&nbsp\;&nbsp\;&nbsp\;&nbsp\;&nbsp\;&nbsp\;&nbsp\;&nbsp\;&nbsp\;&nbsp\;&nbsp\;&nbsp\;&nbsp\;&nbsp\;&nbsp\;&nbsp\;&nbsp\;&nbsp\;&nbsp\;Elliot Rossiter (Western) (commentator)</p>\n\n<p>2:45-3:00&nbsp\;&nbsp\;&nbsp\;&nbsp\;&nbsp\;&nbsp\;Coffee Break</p>\n\n<p>3:00-4:15&nbsp\;&nbsp\;&nbsp\;&nbsp\;&nbsp\;&nbsp\;Patrick Arnold (Nebraska) "Locke's Conventionalism about Biological Species"</p>\n\n<p>&nbsp\;&nbsp\;&nbsp\;&nbsp\;&nbsp\;&nbsp\;&nbsp\;&nbsp\;&nbsp\;&nbsp\;&nbsp\;&nbsp\;&nbsp\;&nbsp\;&nbsp\;&nbsp\;&nbsp\;&nbsp\;&nbsp\;&nbsp\;&nbsp\;&nbsp\;Susanna Goodin (Wyoming) (commentator) </p>\n\n<p>4:15-4:30&nbsp\;&nbsp\;&nbsp\;&nbsp\;&nbsp\;&nbsp\; Coffee Break</p>\n\n<p>4:30-5:45&nbsp\;&nbsp\;&nbsp\;&nbsp\;&nbsp\;&nbsp\; Margaret Atherton (UW- Milwaukee) (Invited) &ldquo\;Locke and Berkeley on Real Knowledge&rdquo\;</p>\n\n\n\n<p>7:00-10:00&nbsp\;&nbsp\;&nbsp\; Dinner</p>\n\n\n\n<p><strong>&nbsp\;</strong></p>\n\n<p><strong>Sunday May 3</strong></p>\n\n<p>8:30-9:00&nbsp\;&nbsp\;&nbsp\;&nbsp\;&nbsp\;&nbsp\; Coffee</p>\n\n<p>9:00-10:15&nbsp\;&nbsp\;&nbsp\; Kathryn Tabb (Pittsburgh) "Locke's Mad Errors: Associated Ideas and the Ethics of Belief"</p>\n\n<p>&nbsp\;&nbsp\;&nbsp\;&nbsp\;&nbsp\;&nbsp\;&nbsp\;&nbsp\;&nbsp\;&nbsp\;&nbsp\;&nbsp\;&nbsp\;&nbsp\;&nbsp\;&nbsp\;&nbsp\;&nbsp\;&nbsp\;&nbsp\;&nbsp\;&nbsp\;Louis Charland (Western) (commentator)</p>\n\n<p>10:15-10:30&nbsp\; Coffee Break</p>\n\n<p>10:30-11:45&nbsp\; Jessica Gordon-Roth (CUNY) &ldquo\;Locke\, Clarke\, and Collins on the Possibility of Thinking Matter&rdquo\;</p>\n\n<p>&nbsp\;&nbsp\;&nbsp\;&nbsp\;&nbsp\;&nbsp\;&nbsp\;&nbsp\;&nbsp\;&nbsp\;&nbsp\;&nbsp\;&nbsp\;&nbsp\;&nbsp\;&nbsp\;&nbsp\;&nbsp\;&nbsp\;&nbsp\;&nbsp\;&nbsp\;William Uzgalis (Oregon State) (commentator)</p>\n\n<p>11:45-1:00 &nbsp\;&nbsp\; Lunch (for those traveling later in the day)</p>\n\n\n\n\n\n\n\n<p>Session Chairs: Edwin McCann (USC)\, Julie Walsh (UQAM)\, </p>\n\n<p>Benjamin Hill (Western) and Jessica Gordon-Roth (CUNY)</p>\n\n\n\n<p>Organizers: Benjamin Hill and Jessica Gordon-Roth</p>\n\n\n\n<p>Registration Deadline for those who wish to attend\, but who are not on the program: </p>\n\n<p><strong>April 15</strong></p>\n<p><strong>To register please send an email to: johnlockesociety (at) uwo (dot) ca</strong></p>
ORGANIZER:
METHOD:PUBLISH
END:VEVENT
END:VCALENDAR
