BEGIN:VCALENDAR
PRODID:-//Grails iCalendar plugin//NONSGML Grails iCalendar plugin//EN
VERSION:2.0
CALSCALE:GREGORIAN
METHOD:PUBLISH
BEGIN:VEVENT
DTSTAMP:20260425T000827Z
DTSTART;TZID=Asia/Jerusalem:20150218T040000
DTEND;TZID=Asia/Jerusalem:20150218T120000
SUMMARY:Israeli Philosophical Association annual conference
UID:20260426T083041Z-iCalPlugin-Grails@philevents-web-6b96c54f56-bljdq
TZID:Asia/Jerusalem
LOCATION:Tel Aviv\, Israel
DESCRIPTION:<p>The Israeli Philosophical Association will hold its annual conference on February 18th 2015\, at The Open University of Israel\, Raanana campus (30 minutes from Tel Aviv).&nbsp\;</p>\n<p><u>Keynote address</u>: Professor John Perry (Stanford)</p>\n<p>Israel.philosophy@gmail.com</a></p>
ORGANIZER:
METHOD:PUBLISH
END:VEVENT
END:VCALENDAR
