BEGIN:VCALENDAR
PRODID:-//Grails iCalendar plugin//NONSGML Grails iCalendar plugin//EN
VERSION:2.0
CALSCALE:GREGORIAN
METHOD:PUBLISH
BEGIN:VEVENT
DTSTAMP:20260424T223018Z
DTSTART;TZID=America/Toronto:20141130T040000
DTEND;TZID=America/Toronto:20141130T040000
SUMMARY:Israeli Philosophical Association annual conference
UID:20260426T065154Z-iCalPlugin-Grails@philevents-web-6b96c54f56-bljdq
TZID:America/Toronto
LOCATION:Tel Aviv\, Israel
DESCRIPTION:<p>The Israeli Philosophical Association will hold its annual conference on February 18th 2015\, at The Open University of Israel\, Raanana campus (30 minutes from Tel Aviv).&nbsp\;</p>\n<p><u>Keynote address</u>: Professor John Perry (Stanford)</p>\n<p>We welcome abstracts in Hebrew OR English suited for blind review in&nbsp\;<strong>all areas and traditions of philosophy</strong>: Faculty members up to 600 words\, students (and others) 600-1000 words.&nbsp\;</p>\n<p>Suggestions for panels are also welcome. Please include subject\, a short description of the subject\, and the names of three discussants.</p>\n<p>Submissions should be sent to&nbsp\;Israel.philosophy@gmail.com. Please include in the body of the email the following: name\, academic status/rank\, affiliation.&nbsp\;</p>\n<p><strong>Deadline for submissions: November 30th\, 2014.</strong></p>
ORGANIZER:
METHOD:PUBLISH
END:VEVENT
END:VCALENDAR
