BEGIN:VCALENDAR
PRODID:-//Grails iCalendar plugin//NONSGML Grails iCalendar plugin//EN
VERSION:2.0
CALSCALE:GREGORIAN
METHOD:PUBLISH
BEGIN:VEVENT
DTSTAMP:20260423T154435Z
DTSTART;TZID=America/Chicago:20150123T040000
DTEND;TZID=America/Chicago:20150124T120000
SUMMARY:The Epistemic Value of Group Deliberation
UID:20260429T224046Z-iCalPlugin-Grails@philevents-web-6b96c54f56-bljdq
TZID:America/Chicago
LOCATION:Evanston\, United States
ORGANIZER;CN=Sanford  Goldberg;CN=Matthew Kopec:
METHOD:PUBLISH
END:VEVENT
END:VCALENDAR
