BEGIN:VCALENDAR
PRODID:-//Grails iCalendar plugin//NONSGML Grails iCalendar plugin//EN
VERSION:2.0
CALSCALE:GREGORIAN
METHOD:PUBLISH
BEGIN:VEVENT
DTSTAMP:20260421T181816Z
DTSTART;TZID=Europe/London:20150220T040000
DTEND;TZID=Europe/London:20150220T120000
SUMMARY:Pragmatistic Approaches to Negation\, Contradiction and the Impossible
UID:20260424T015754Z-iCalPlugin-Grails@philevents-web-6b96c54f56-bljdq
TZID:Europe/London
LOCATION:Humanieties Building\, Nottingham University\, Nottingham\, United Kingdom
DESCRIPTION:<p>This is the first event of the Pragmatism in Nottingham Conference Series\, please wait for more information!</p>\n\n<p>Mark Jago (Nottingham): Pragmatism and the Impossible</p>\n\n<p>Nils Kurbis (Birkbeck): No! Denial as a pragmatic approach to Negation.</p>\n\n\n<p>Paniel Reyes-Cardenas (Nottingham): Peirce on Models of Paraconsistency </p>\n
ORGANIZER;CN=Paniel Reyes-Cardenas:
METHOD:PUBLISH
END:VEVENT
END:VCALENDAR
