BEGIN:VCALENDAR
PRODID:-//Grails iCalendar plugin//NONSGML Grails iCalendar plugin//EN
VERSION:2.0
CALSCALE:GREGORIAN
METHOD:PUBLISH
BEGIN:VEVENT
DTSTAMP:20260421T200256Z
DTSTART;TZID=America/Toronto:20150220T040000
DTEND;TZID=America/Toronto:20150220T090000
SUMMARY:No! Denial as a pragmatic approach of Negation
UID:20260424T075321Z-iCalPlugin-Grails@philevents-web-6b96c54f56-bljdq
TZID:America/Toronto
LOCATION:Humanieties Building\, Nottingham University\, Nottingham\, United Kingdom
DESCRIPTION:<p>This is the first event of the Pragmatism in Nottingham Conference Series\, please wait for more information!</p>
ORGANIZER;CN=Paniel Reyes-Cardenas:
METHOD:PUBLISH
END:VEVENT
END:VCALENDAR
