BEGIN:VCALENDAR
PRODID:-//Grails iCalendar plugin//NONSGML Grails iCalendar plugin//EN
VERSION:2.0
CALSCALE:GREGORIAN
METHOD:PUBLISH
BEGIN:VEVENT
DTSTAMP:20260424T171019Z
DTSTART;TZID=Asia/Nicosia:20150521T150000
DTEND;TZID=Asia/Nicosia:20150531T130000
SUMMARY:HowTheLightGetsIn philosophy & ideas festival
UID:20260425T184801Z-iCalPlugin-Grails@philevents-web-6b96c54f56-bljdq
TZID:Asia/Nicosia
LOCATION:Hay-on-Wye\, United Kingdom
DESCRIPTION:<p>HowTheLightGetsIn\, the world's largest philosophy festival\, is back with a new theme: 'Fantasy and Reality'. From the dangers of morality to the limits of knowledge\, join leading philosophers John Searle\, Mary Midgley\, Simon Blackburn\, Ray Brassier\, Gianni Vattimo\, Ted Hondrich\, Rae Langton\, Bernard Stiegler\, Peter Hacker\, Nancy Cartwright\, John Milbank\, Berit Brogaard and many more to challenge the foundations of our reality and discover the new fantasies shaping our world.</p>\n<p>Philosophy debates will range from 'In Search of Self' with Mary Midgley\, Simon Balckburn and Colin Blakemore to 'The Good\, the Bad and the Dangerous' with Gianni Vattimo\, Helena Cronin and Daniel Everett and 'Matter &amp\; Mind' with Markus Gabriel\, Ray Brassier and Eva Jablonka. For more info head to www.howthelightgetsin.org</p>
ORGANIZER:
METHOD:PUBLISH
END:VEVENT
END:VCALENDAR
