BEGIN:VCALENDAR
PRODID:-//Grails iCalendar plugin//NONSGML Grails iCalendar plugin//EN
VERSION:2.0
CALSCALE:GREGORIAN
METHOD:PUBLISH
BEGIN:VEVENT
DTSTAMP:20260420T104510Z
DTSTART;TZID=Australia/Melbourne:20150828T070000
DTEND;TZID=Australia/Melbourne:20150828T090000
SUMMARY:Paraconsistent Justification Logic
UID:20260420T112223Z-iCalPlugin-Grails@philevents-web-f5d4878dd-nv7xt
TZID:Australia/Melbourne
LOCATION:757 Swanston Street\, Parkville\, Australia\, 3010
ORGANIZER;CN=Greg Restall:
METHOD:PUBLISH
END:VEVENT
END:VCALENDAR
