BEGIN:VCALENDAR
PRODID:-//Grails iCalendar plugin//NONSGML Grails iCalendar plugin//EN
VERSION:2.0
CALSCALE:GREGORIAN
METHOD:PUBLISH
BEGIN:VEVENT
DTSTAMP:20260420T131938Z
DTSTART;TZID=America/Toronto:20160211T123000
DTEND;TZID=America/Toronto:20160211T133000
SUMMARY:“Hume on the origin of the idea of time”
UID:20260420T180039Z-iCalPlugin-Grails@philevents-web-f5d4878dd-nv7xt
TZID:America/Toronto
LOCATION:Stevenson Hall 1145\, London\, Canada
ORGANIZER:
METHOD:PUBLISH
END:VEVENT
END:VCALENDAR
