BEGIN:VCALENDAR
PRODID:-//Grails iCalendar plugin//NONSGML Grails iCalendar plugin//EN
VERSION:2.0
CALSCALE:GREGORIAN
METHOD:PUBLISH
BEGIN:VEVENT
DTSTAMP:20260425T165517Z
DTSTART;TZID=America/Chicago:20121019T100000
DTEND;TZID=America/Chicago:20121020T180000
SUMMARY:1st Midwest Annual Workshop in Metaphysics (MAWM)
UID:20260427T144640Z-iCalPlugin-Grails@philevents-web-6b96c54f56-bljdq
TZID:America/Chicago
LOCATION:3800 Lindell Blvd\, Saint Louis\, United States
DESCRIPTION:<p>MAWMs are targeted workshops for Midwestern faculty and graduate students working in metaphysics. &nbsp\;Each MAWM features 5-7 invited speakers\, the majority of whom come from midwestern institutions. &nbsp\;They provide a venue for sharing new research and building community among metaphysicians in the region.</p>\n<p>For more information\, visit the website\,</p>\n<p>http://mawms.org/.</p>\n<p>To keep up to date\, join the email list here:</p>\n<p>http://mawms.org/News/contact/</p>
ORGANIZER;CN=Jonathan Jacobs;CN=Timothy Pawl;CN=Meghan Sullivan:
METHOD:PUBLISH
END:VEVENT
END:VCALENDAR
