BEGIN:VCALENDAR
PRODID:-//Grails iCalendar plugin//NONSGML Grails iCalendar plugin//EN
VERSION:2.0
CALSCALE:GREGORIAN
METHOD:PUBLISH
BEGIN:VEVENT
DTSTAMP:20260425T155937Z
DTSTART;TZID=Australia/Melbourne:20120518T151500
DTEND;TZID=Australia/Melbourne:20120518T171500
SUMMARY:Why Go Hybrid?
UID:20260427T134225Z-iCalPlugin-Grails@philevents-web-6b96c54f56-bljdq
TZID:Australia/Melbourne
LOCATION:55 Wellington Rd\, Melbourne\, Australia\, 3800
DESCRIPTION:<p>Abstract: Expressivists have long argued that cognitivist accounts of normative judgments cannot adequately explain their distinctive action-guiding and motivational role. Recently\, they have been joined by a growing contingent of hybrid theorists who contend that a defensible account of normative judgment should construe simple normative assertions as expressing both a belief and a desire-like attitude. In this paper\, we argue that a more careful characterization of the conceptual structure of normative judgments provides the resources to explain their link to motivation without hybridization.</p>
ORGANIZER;CN=Joshua May:
METHOD:PUBLISH
END:VEVENT
END:VCALENDAR
