BEGIN:VCALENDAR
PRODID:-//Grails iCalendar plugin//NONSGML Grails iCalendar plugin//EN
VERSION:2.0
CALSCALE:GREGORIAN
METHOD:PUBLISH
BEGIN:VEVENT
DTSTAMP:20260423T160203Z
DTSTART;TZID=Europe/Riga:20160710T050000
DTEND;TZID=Europe/Riga:20160723T130000
SUMMARY:Free will and consciousness
UID:20260429T233607Z-iCalPlugin-Grails@philevents-web-6b96c54f56-bljdq
TZID:Europe/Riga
LOCATION:Riga\, Latvia
DESCRIPTION:<p>The Moscow Center for Consciousness Studies (MCCS) is hosting a summer school devoted to the problem of Free Will and Consciousness on July 10th &ndash\; 23d 2016. The summer school will be led by philosopher Prof. Derk Pereboom of Cornell University.</p>\n<p>Graduate students and recent PhDs are invited to submit applications to participate in this summer school. For two weeks\, you will be hosted by MCCS in the beautiful city of Riga\, Latvia.</p>\n<p>MCCS will provide accommodation and breakfasts. We also will compensate 50% of your round trip ticket to Riga. We will provide two applicants with full travel expenses to and from Riga.</p>\n<p><strong>To apply for admission to the summer school\, please submit a ten-page writing sample (2\,500 to 3\,000 words) that demonstrates your knowledge of current work on free will or on the relation between free will and consciousness and your own ideas about this topic. Please\, also submit two letters of recommendation from philosophers working in this area (your supervisor or other qualified people who know your work)\, and a Curriculum Vitae.</strong></p>\n<p>The deadline for submitting applications is <strong>April 3d\, 2016.</strong></p>
ORGANIZER:
METHOD:PUBLISH
END:VEVENT
END:VCALENDAR
