BEGIN:VCALENDAR
PRODID:-//Grails iCalendar plugin//NONSGML Grails iCalendar plugin//EN
VERSION:2.0
CALSCALE:GREGORIAN
METHOD:PUBLISH
BEGIN:VEVENT
DTSTAMP:20260422T170643Z
DTSTART;TZID=America/Phoenix:20160107T080000
DTEND;TZID=America/Phoenix:20160107T100000
SUMMARY: Journal of Social Philosophy - Meet the Editor Event at the Eastern APA
UID:20260427T001210Z-iCalPlugin-Grails@philevents-web-6b96c54f56-bljdq
TZID:America/Phoenix
LOCATION:2660 Woodley Road NW\, Washington\, DC\, United States\, 20008
DESCRIPTION:<p>If you're planning to attend the Eastern APA meeting later this week\, I hope you'll have a chance to stop by the Wiley booth to meet with me and my managing editor to hear about our plans at the <em>Journal of Social Philosophy</em>. We'll be keen to answer any questions you might have about publishing with us\, and the Wiley book acquisitions editor will be available as well. We're also interested in receiving proposals for guest edited special issues. With our new management structure in place\, we've been working to make our review process as efficient\, responsive\, and speedy as possible. &nbsp\; Attached is the flyer invitation for the event. It will take place from 1:00 - 3:00 p.m. on Thursday\, January 7th\, at the Wiley booth\, #341. A coffee/tea reception will be provided.&nbsp\; &nbsp\; Here's a statement of the journal's aims and core concerns: <em>The&nbsp\;<em>Journal of Social Philosophy</em></em>&nbsp\;seeks to publish creative approaches to practical and normative issues of contemporary social life\, such as those arising from economic and other forms of globalization\, violent political conflict\, and the multiplicity of cultural experiences worldwide. It places new emphasis on understanding the social contexts for political\, legal\, moral\, and cultural questions\, and gives priority to the development of novel theoretical frameworks\, from social ontology to care ethics to cosmopolitan theories of democracy\, human rights\, and global justice. The&nbsp\;<em>Journal's&nbsp\;</em>editorial process proceeds online\, with anonymous review of articles not only by referees but also by the editor\, and aims to deliver timely responses for submissions. The&nbsp\;<em>Journal</em>&nbsp\;also on occasion publishes special issues focusing on topics of vital practical concern\, in the conviction that these can be better understood with the aid of disciplined and innovative philosophical analysis. &nbsp\; If you decide to send us an article\, please have a look at the guidelines for authors: <a target="_blank">http://onlinelibrary.wiley.com/journal/10.1111/(ISSN)1467-9833/homepage/ForAuthors.html</a> &nbsp\; And here's a list of some of our previous special issues\, for your interest: <a target="_blank">http://onlinelibrary.wiley.com/journal/10.1111/(ISSN)1467-9833/homepage/special_issues.htm</a>&nbsp\; Hope to see you at the reception\, but if you can't make it\, please keep the journal in mind for your articles! &nbsp\;</p>\n<p>Carol Gould<br>Editor\,&nbsp\;<em>Journal of Social Philosophy</em></p>\n<p>Member\, Institute for Advanced Studies\, Princeton\, NJ\, 2015-16</p>\n<p>Distinguished Professor of Philosophy\, Hunter College and the Graduate Center\,&nbsp\;City University of New York</p>\n<p><a target="_blank">http://www.carolcgould.com</a></p>\n<p>Director\,&nbsp\;<a target="_blank">Center for Global Ethics &amp\; Politics</a>&nbsp\;at the Ralph Bunche Institute\, the Graduate Center\, CUNY</p>\n<p>Email: <a target="_blank">carolcgould@gmail.com</a></p>\n<p>Journal submissions and questions: &nbsp\;<a target="_blank">jsocphil@gmail.com</a></p>
ORGANIZER;CN=Nguyen Fifile:
METHOD:PUBLISH
END:VEVENT
END:VCALENDAR
