BEGIN:VCALENDAR
PRODID:-//Grails iCalendar plugin//NONSGML Grails iCalendar plugin//EN
VERSION:2.0
CALSCALE:GREGORIAN
METHOD:PUBLISH
BEGIN:VEVENT
DTSTAMP:20260425T165523Z
DTSTART;TZID=Europe/Zurich:20160527T050000
DTEND;TZID=Europe/Zurich:20160527T130000
SUMMARY:The Lake Geneva Graduate Conference 2016
UID:20260427T144641Z-iCalPlugin-Grails@philevents-web-6b96c54f56-bljdq
TZID:Europe/Zurich
LOCATION:9\, Chemin des Mines\, Geneva\, Switzerland\, CH-1202
DESCRIPTION:<p>The Lake Geneva Graduate Conference is a new annual event organized by the graduate students at the Universities of Fribourg\, Lausanne\, Neuch&acirc\;tel and Geneva\, Switzerland.&nbsp\;</p>\n<p>The conference&rsquo\;s goal is to foster exchanges between graduate students from the Lake Geneva area and from elsewhere in the world.&nbsp\;Submissions from graduate students were assessed by means of strict blind review processes (authors &ndash\; editorial team &ndash\; reviewers\, cf. the attached CFP for further details) in order to select approximately two submissions from the Lake Geneva area and two from elsewhere in the world.&nbsp\;</p>\n<p>The topic of our CFP was <strong>explanation\, broadly conceived\,</strong>&nbsp\;and our program for the day is the following:</p>\n<p>9:30-10:45<strong> Prof. CHRISTIAN W&Uuml\;THRICH </strong>(Geneva)\, Keynote speaker</p>\n<p><strong></strong><em>What Becomes of the Future</em></p>\n<p>11:00-12:00<strong> JONAS WERNER </strong>(Hamburg)</p>\n<p><em>On the Epistemic Connection Between Grounds and Grounded</em></p>\n<p>12:00-1:00<strong>&nbsp\;</strong><strong>DAVIDE ROMANO </strong>(Lausanne)</p>\n<p><em>"Quantum to Classical Transition in Bohmian Mechanics: from a (Quantum) Holistic Description to a (Classical) &ldquo\;Separable&rdquo\; World".</em></p>\n<p>Lunch at Campus Biotech</p>\n<p>2:30-3:45<strong> &nbsp\;Prof. KAREN BENNETT (Cornell)\,&nbsp\;</strong>Keynote speaker</p>\n<p><em>Explanation\, Production\, and Causation</em></p>\n<p>4:00-5:00 <strong>FRAN&Ccedil\;OIS PELLET </strong>(M&uuml\;nster)</p>\n<p><em>Form\, Matter\, and Function in the Metaphysics of Mechanisms: Toward an Aggregative Definition of Mechanisms</em>&nbsp\;</p>\n<p>5:00-6:00 <strong>ALBERTO TASSONI</strong> (UC Berkeley)</p>\n<p><em> Laws and Explanation: Towards Unification</em></p>\n<p>6h15-7h00 Open discussion and refreshments\, followed by the conference dinner.</p>\n<p><strong><br></strong></p>\n<p><strong>Registration (free) and all questions: </strong>please send us an email at lg2c.org@gmail.com.</p>\n<p><strong>Conference scholarships for non-speaker participants: </strong>Graduate students from the Lake Geneva area are eligible for reimbursement of train fares and meals. They should send us an email at lg2c.org@gmail.com to receive further instructions.</p>\n<p>We encourage other non-speaker participants to contact us so that we can help them find affordable accommodation in Geneva and support their applications for third-party funding.</p>\n<p><strong><br></strong></p>\n<p><strong>LG2C org.: </strong>Alain Pe-Curto &amp\; Maria Scarpati<strong> 2016 team: </strong>Alexander Bown\, Pablo Carnino\, Steve Humbert-Droz\, Elodie Malbois\, Alain Pe-Curto &amp\; Maria Scarpati.&nbsp\;</p>\n<p><strong>Sponsors: </strong>Profs. Fabrice Correia\, Julien Deonna &amp\; Fabrice Teroni. This event is generously supported by the Conf&eacute\;rence universitaire de Suisse occidentale\, the Dean of the School of Humanities\, the Department of Philosophy and the Swiss Center for Affective Sciences at the University of Geneva.</p>\n<p><strong>Website:</strong></p>
ORGANIZER:
METHOD:PUBLISH
END:VEVENT
END:VCALENDAR
