BEGIN:VCALENDAR
PRODID:-//Grails iCalendar plugin//NONSGML Grails iCalendar plugin//EN
VERSION:2.0
CALSCALE:GREGORIAN
METHOD:PUBLISH
BEGIN:VEVENT
DTSTAMP:20260420T210133Z
DTSTART;TZID=Europe/London:20160919T130000
DTEND;TZID=Europe/London:20160920T130000
SUMMARY:Bernard Williams and the Ancients
UID:20260421T051035Z-iCalPlugin-Grails@philevents-web-6b96c54f56-bljdq
TZID:Europe/London
LOCATION:Newnham College\, Sidgwick Avenue\, United Kingdom\, CB3 9DF
DESCRIPTION:<p>More information will be available in April.</p>
ORGANIZER;CN=Sophia Connell;CN=Nakul Krishna:
METHOD:PUBLISH
END:VEVENT
END:VCALENDAR
