BEGIN:VCALENDAR
PRODID:-//Grails iCalendar plugin//NONSGML Grails iCalendar plugin//EN
VERSION:2.0
CALSCALE:GREGORIAN
METHOD:PUBLISH
BEGIN:VEVENT
DTSTAMP:20260420T133923Z
DTSTART;TZID=Europe/Brussels:20160530T050000
DTEND;TZID=Europe/Brussels:20160601T130000
SUMMARY:Swamplandia 2016
UID:20260420T190026Z-iCalPlugin-Grails@philevents-web-f5d4878dd-nv7xt
TZID:Europe/Brussels
LOCATION:Ghent\, Belgium\, Belgium
DESCRIPTION:<p>Logicians and mathematicians devoted considerable effort to investigate the properties and limitations of arithmetical theories. Unfortunately\, philosophical motivations and implications of some of these results are either not known or not clear. The main aim of the workshop is to present philosophically relevant meta-arithmetical results and discuss their philosophical implications in more depth. The workshop is focused on\, but not restricted to formal theories of truth\, theories of provability in arithmetic\, logic of provability and philosophically relevant results about complexity&nbsp\; or&nbsp\; computability. Keynote speakers will deliver invited lectures and give extended tutorials. The title of the workshop comes from the fact that philosophical approaches to mathematical results are rather tricky.</p>
ORGANIZER;CN=Pawel Pawlowski;CN=Rafal Urbaniak;CN=Erik Weber:
METHOD:PUBLISH
END:VEVENT
END:VCALENDAR
