BEGIN:VCALENDAR
PRODID:-//Grails iCalendar plugin//NONSGML Grails iCalendar plugin//EN
VERSION:2.0
CALSCALE:GREGORIAN
METHOD:PUBLISH
BEGIN:VEVENT
DTSTAMP:20260423T132230Z
DTSTART;TZID=America/Toronto:20161231T040000
DTEND;TZID=America/Toronto:20161231T040000
SUMMARY:Mouseion\, Special Issue: "Death of a Gadfly: An Interdisciplinary Examination of the Trial and Execution of Socrates"
UID:20260429T150820Z-iCalPlugin-Grails@philevents-web-6b96c54f56-bljdq
TZID:America/Toronto
DESCRIPTION:<p><u>Mouseion:</u><u> Journal of the Classical Association of Canada</u> is pleased to announce a Call For Papers for an upcoming Special Issue\, <u>Death of a Gadfly: An Interdisciplinary Examination of the Trial and Execution of Socrates</u>\, guest-edited by John Harris (Associate Professor\, History and Classics\, University of Alberta) and Kathrin Koslicki (Professor and Tier 1 Canada Research Chair\, Philosophy\, University of Alberta). <br>&nbsp\;&nbsp\;&nbsp\; Many questions persist today concerning the circumstances surrounding Socrates&rsquo\; trial and execution as well as his life and the substance of his philosophical views.&nbsp\; How and why was Socrates brought to trial?&nbsp\; Why did the Athenian jurors\, who were after all members of the world&rsquo\;s first democracy\, find him guilty?&nbsp\; Were the official charges against Socrates in fact trumped up?&nbsp\; Was the real motivation behind his conviction political?&nbsp\; Why did Socrates refuse to accept the opportunity to escape execution and instead submit to a verdict which both he and his friends thought unjust?&nbsp\; Would we not expect Socrates of all people to refuse to carry out a legal injunction which he considered immoral? <br>&nbsp\;&nbsp\;&nbsp\; In a time when the continued importance of the humanities within the academy is constantly under attack\, it is especially crucial to convey to those working outside of our own specialties that engagement with a momentous historical event --even one that took place in ancient Athens over two thousand years ago&ndash\; can nevertheless have an immeasurable impact on how we interpret and react to urgent challenges facing citizens of democratic societies today.&nbsp\; The enigmatic and controversial figure of Socrates provides the perfect foil through which we can evaluate how individuals perceived as subversive and potentially threatening (e.g.\, for moral\, religious\, political or cultural reasons) have been\, and ought to be\, treated by their respective communities\, especially when these communities pride themselves on their alleged adherence to democratic principles. To appreciate the contemporary relevance of Socrates&rsquo\; trial and execution\, it is useful to compare his treatment at the hands of the Athenians to interestingly similar recent incidents which particularly resonate with us (e.g.\, the assassinations of Dr. Martin Luther King and Malcolm X or the recent controversy involving Edward Snowden).<br>&nbsp\;&nbsp\;&nbsp\; This proposed volume intends to explore these and other questions connected to Socrates&rsquo\; trial and execution.&nbsp\; Our topic invites an <em>interdisciplinary</em> approach\, since an informed evaluation of whether the Athenians were justified in their condemnation of Socrates requires not only an examination of Socrates&rsquo\; alleged philosophical position\, but also an appreciation of his historical\, political and cultural milieu.&nbsp\; To this end\, we welcome article submissions from scholars working in a variety of disciplines\, including (but not limited to) Classics\, History\, Philosophy\, Political Science\, and Religious Studies\, who can contribute to an interdisciplinary examination of Socrates&rsquo\; trial and execution.<br>&nbsp\;&nbsp\;&nbsp\; <u>Submission Instructions</u>.&nbsp\; The submission deadline is <strong>December 31\, 2016</strong>.&nbsp\; Authors are requested to submit their papers according to the following guidelines.&nbsp\; Papers must be (1) less than 7500 words long (excluding notes and references) and prepared for anonymous refereeing\; (2) in pdf file format\; (3) sent as an email attachment to the email addresses given below\; (4) the subject line of the submission email should include the key-phrase &ldquo\;Socrates Volume Submission&rdquo\;\; (5) the submission should include a cover page with a return email address\, the author&rsquo\;s name\, affiliation\, paper title\, and short abstract.&nbsp\; All submissions will receive email confirmation of receipt.&nbsp\; If your submission does not soon result in such an email confirmation\, please send an inquiry to the guest-editors.&nbsp\; For additional detailed submission guidelines\, please consult the &ldquo\;Notes to Contributors&rdquo\; at <u>http://www.mun.ca/mouseion/Submissions/</u>.&nbsp\; All submissions and correspondence concerning this Special Issue should be directed to the guest-editors\, John Harris and Kathrin Koslicki at <u>jpharris@ualberta.ca</u> and <u>kathrin.koslicki@ualberta.ca</u>. <br>&nbsp\;&nbsp\;&nbsp\; <u>Aims of the Journal</u>.&nbsp\; <u>Mouseion</u> aims to be a distinctively comprehensive Canadian journal of Classical Studies\, publishing articles and reviews in both French and English. One issue annually is normally devoted to archaeological topics\, including field reports\, finds analysis\, and the history of art in antiquity. The other two issues welcome work in all areas of interest to scholars\; this includes both traditional and innovative research in philology\, history\, philosophy\, pedagogy\, and reception studies\, as well as original work in and translations into Greek and Latin.<br><br>&nbsp\;&nbsp\;&nbsp\; <u>Mouseion: journal de la Soci&eacute\;t&eacute\; canadienne des &eacute\;tudes classiques</u> a le plaisir d&rsquo\;annoncer un appel &agrave\; communications pour une &eacute\;dition sp&eacute\;ciale intitul&eacute\;e &laquo\; La mort d&rsquo\;un taon : une enqu&ecirc\;te interdisciplinaire sur le proc&egrave\;s et l&rsquo\;ex&eacute\;cution de Socrate &raquo\;\, &eacute\;dit&eacute\; par John Harris\, professeur agr&eacute\;g&eacute\; dans le d&eacute\;partement d&rsquo\;histoire et d&rsquo\;&eacute\;tudes classiques\, Universit&eacute\; de l&rsquo\;Alberta et Kathrin Koslicki\, professeur et chaire de recherche du Canada de niveau 1 dans le d&eacute\;partement de philosophie\, Universit&eacute\; de l&rsquo\;Alberta. <br>&nbsp\;&nbsp\;&nbsp\; De nombreuses questions persistent aujourd&rsquo\;hui concernant les circonstances entourant le proc&egrave\;s et l&rsquo\;ex&eacute\;cution de Socrate ainsi que sa vie et ses conceptions philosophiques. Pourquoi et comment Socrate a-t-il &eacute\;t&eacute\; conduit au tribunal? Pourquoi les membres du tribunal ath&eacute\;niens\, membres de la premi&egrave\;re d&eacute\;mocratie du monde\, l&rsquo\;ont-il condamn&eacute\;? Les accusations officielles contre Socrate &eacute\;taient-elles fabriqu&eacute\;es? La v&eacute\;ritable motivation sous-jacente &agrave\; sa condamnation &eacute\;tait-elle politique? Pourquoi Socrate a-t-il refus&eacute\; d&rsquo\;&eacute\;chapper &agrave\; son ex&eacute\;cution et s&rsquo\;est-il soumis &agrave\; un verdict que ses amis ainsi que lui-m&ecirc\;me trouvaient injuste? Ne devrions-nous pas attendre de Socrate\, de toutes personnes\, de refuser de proc&eacute\;der &agrave\; une injonction l&eacute\;gale qu&rsquo\;il consid&egrave\;re immoral? <br>&nbsp\;&nbsp\;&nbsp\; A une &eacute\;poque o&ugrave\; l&rsquo\;importance des sciences humaines au sein de l&rsquo\;Acad&eacute\;mie est continuellement sous attaque\, il est particuli&egrave\;rement crucial de communiquer aux ceux et celles qui travaillent en dehors de nos propres sp&eacute\;cialit&eacute\;s que l&rsquo\;engagement avec un grand &eacute\;v&egrave\;nement historique &ndash\; m&ecirc\;me s&rsquo\;il a &eacute\;t&eacute\; produit &agrave\; Ath&egrave\;nes il y a plus de deux mille ans &ndash\; peut influencer infiniment la fa&ccedil\;on dont nous interpr&eacute\;tons et r&eacute\;agissons aux d&eacute\;fis urgents auxquels sont confront&eacute\;s les citoyens et citoyennes des soci&eacute\;t&eacute\;s d&eacute\;mocratiques contemporaines. La personnalit&eacute\; &eacute\;nigmatique et controvers&eacute\;e de Socrate nous donne un faire-valoir extraordinaire par lequel nous pouvons &eacute\;valuer comment des individus per&ccedil\;us comme subversifs et potentiellement mena&ccedil\;ants (par ex. pour des raisons morales\, religieuses\, politiques ou culturelles) ont &eacute\;t&eacute\; trait&eacute\;s et auraient d&ucirc\; &ecirc\;tre trait&eacute\;s\, par leur communaut&eacute\;s respectives\, surtout lorsque celles-ci s&rsquo\;enorgueillissent d&rsquo\;une pr&eacute\;tendue adh&eacute\;sion aux principes d&eacute\;mocratiques. Pour appr&eacute\;cier la pertinence contemporaine du proc&egrave\;s et de l&rsquo\;ex&eacute\;cution de Socrate\, il est utile de comparer son traitement par les Ath&eacute\;niens avec des &eacute\;v&eacute\;nements r&eacute\;cents d&rsquo\;une similarit&eacute\; int&eacute\;ressante qui trouve un &eacute\;cho chez nous (comme par ex. les assassinats de Martin Luther King et Malcolm X ou bien la controverse toute r&eacute\;cente concernant Edward Snowden). <br>&nbsp\;&nbsp\;&nbsp\; Ce volume propos&eacute\; vise &agrave\; explorer ces questions et d&rsquo\;autres li&eacute\;es au proc&egrave\;s et &agrave\;&nbsp\; l&rsquo\;ex&eacute\;cution de Socrate. Notre sujet invite &agrave\; une approche <em>interdisciplinaire</em> puisqu&rsquo\;une &eacute\;valuation inform&eacute\;e de la question visant &agrave\; d&eacute\;terminer si les Ath&eacute\;niens &eacute\;taient justifi&eacute\;s dans leur condamnation de Socrate exige non seulement un examen de la pr&eacute\;tendue position philosophique de Socrate\, mais aussi une appr&eacute\;ciation de son milieu historique\, politique et culturel. A cette fin nous invitons des propositions d&rsquo\;articles de chercheurs travaillant dans une vari&eacute\;t&eacute\; de disciplines\, y compris mais non limit&eacute\; aux &eacute\;tudes classiques\, &agrave\; l&rsquo\;histoire\, la philosophie\, les sciences politiques et les &eacute\;tudes religieuses\, qui peuvent contribuer &agrave\; un examen interdisciplinaire du proc&egrave\;s et de l&rsquo\;ex&eacute\;cution de Socrate. <br>&nbsp\;&nbsp\;&nbsp\; <u>Instructions pour la pr&eacute\;sentation de soumission</u>. La date limite de soumission est fix&eacute\;e au <strong>31 d&eacute\;cembre 2016</strong>. Les chercheur(e)s sont invit&eacute\;(e)s &agrave\; soumettre une proposition selon les indications suivantes. Les propositions doivent &ecirc\;tre (1) de moins de 7500 mots (excluant des notes et r&eacute\;f&eacute\;rences) et pr&eacute\;par&eacute\;s pour arbitrage anonyme\; (2) au format pdf\; (3) envoy&eacute\;es par courriel comme pi&egrave\;ce jointe\; (4) avoir l&rsquo\;expression-cl&eacute\; &laquo\; Socrates Volume Submission &raquo\; indiqu&eacute\; dans la ligne objet\; (5) y compris une page de couverture avec votre courriel\, votre nom\, votre rattachement institutionnel\, le titre de proposition et un bref r&eacute\;sum&eacute\;. Toute les propositions recevront un courriel de confirmation de r&eacute\;ception. Au cas &eacute\;ch&eacute\;ant\, veuillez envoyer une demande de renseignements aux &eacute\;diteurs. Pour des directives plus d&eacute\;taill&eacute\;es consulter s.v.p. les &laquo\; Notes destin&eacute\;es aux contributeur(e)s &raquo\; &agrave\; <u>http://www.mun.ca/mouseion/Submissions/</u>. Toutes les propositions et correspondance concernant cette &eacute\;dition sp&eacute\;ciale doivent &ecirc\;tre adress&eacute\;es aux &eacute\;diteurs John Harris et Kathrin Koslicki : <u>jpharris@ualberta.ca</u> et <u>kathrin.koslicki@ualberta.ca</u>.<br>&nbsp\;&nbsp\;&nbsp\; <u>Objectifs de la Revue</u>.&nbsp\; <u>Mouseion</u> se pr&eacute\;sente comme un p&eacute\;riodique canadien d'&eacute\;tudes classiques polyvalent\, publiant des articles et comptes rendus en fran&ccedil\;ais et en anglais. Un fascicule par ann&eacute\;e est normalement d&eacute\;di&eacute\; &agrave\; des sujets arch&eacute\;ologiques\, incluant des rapports pr&eacute\;liminaires de fouilles\, des &eacute\;tudes de mat&eacute\;riel et des &eacute\;tudes d'histoire de l'art antique. Les deux autres fascicules pr&eacute\;sentent des &eacute\;tudes dans tous les domaines d'int&eacute\;r&ecirc\;t pour les chercheurs\, ce qui inclut &agrave\; la fois les recherches traditionnelles ou novatrices en philologie\, en histoire\, en philosophie et en p&eacute\;dagogie ou relatives &agrave\; l'influence des &eacute\;tudes classiques en dehors du monde universitaire\; <u>Mouseion</u> publie &eacute\;galement des travaux originaux r&eacute\;dig&eacute\;s ou traduits en latin ou en grec ancien.</p>
ORGANIZER:
METHOD:PUBLISH
END:VEVENT
END:VCALENDAR
