BEGIN:VCALENDAR
PRODID:-//Grails iCalendar plugin//NONSGML Grails iCalendar plugin//EN
VERSION:2.0
CALSCALE:GREGORIAN
METHOD:PUBLISH
BEGIN:VEVENT
DTSTAMP:20260423T153733Z
DTSTART;TZID=Australia/Melbourne:20160310T111500
DTEND;TZID=Australia/Melbourne:20160310T131500
SUMMARY:One's Own Reasoning
UID:20260429T223051Z-iCalPlugin-Grails@philevents-web-6b96c54f56-bljdq
TZID:Australia/Melbourne
LOCATION:Old Physics Building\, Melbourne\, Australia
DESCRIPTION:<p><strong>Abstract:</strong> Agents often reason about evidence to evaluate how it bears on hypotheses.&nbsp\; Agents then possess facts about how their reasoning has come out.&nbsp\; I will consider how facts about the outcome of an agent's own reasoning should bear on her opinions concerning hypotheses.</p>
ORGANIZER:
METHOD:PUBLISH
END:VEVENT
END:VCALENDAR
