BEGIN:VCALENDAR
PRODID:-//Grails iCalendar plugin//NONSGML Grails iCalendar plugin//EN
VERSION:2.0
CALSCALE:GREGORIAN
METHOD:PUBLISH
BEGIN:VEVENT
DTSTAMP:20260423T153813Z
DTSTART;TZID=Australia/Melbourne:20160311T090000
DTEND;TZID=Australia/Melbourne:20160311T110000
SUMMARY:One's Own Reasoning
UID:20260429T223232Z-iCalPlugin-Grails@philevents-web-6b96c54f56-bljdq
TZID:Australia/Melbourne
LOCATION:Monash University\, Clayton\, Australia\, 3800
DESCRIPTION:<p>Agents often reason about evidence to evaluate how it bears on hypotheses.&nbsp\; Agents then possess facts about how their reasoning has come out.&nbsp\; I will consider how facts about the outcome of an agent's own reasoning should bear on her opinions concerning hypotheses.&nbsp\;&nbsp\;</p>
ORGANIZER:
METHOD:PUBLISH
END:VEVENT
END:VCALENDAR
