BEGIN:VCALENDAR
PRODID:-//Grails iCalendar plugin//NONSGML Grails iCalendar plugin//EN
VERSION:2.0
CALSCALE:GREGORIAN
METHOD:PUBLISH
BEGIN:VEVENT
DTSTAMP:20260422T061018Z
DTSTART;TZID=Europe/London:20120516T170000
DTEND;TZID=Europe/London:20120516T190000
SUMMARY:Sex Objects and Sexy Subjects: A Critique of Sexiness
UID:20260425T085643Z-iCalPlugin-Grails@philevents-web-6b96c54f56-bljdq
TZID:Europe/London
LOCATION:Malet Street\, London\, United Kingdom\, WC1
DESCRIPTION:<strong>Abstract:</strong> Feminists have sometimes been inclined to abandon the notion of sexiness because of the way it is entwined with sexual objectification of women. We argue that because the sexual gaze is an important form of interpersonal recognition and validation with both individual and political implications\, sexiness should be not abandoned but reshaped into an ethically adequate form. Our revisionist notion of sexiness has two tenets: (1) the ethical sexual gaze should seek out not conventionally attractive bodies\, but a wide range of bodies in all of their rich particularity\, and (2) attributions of sexiness should be directed not to bodies alone\, but to embodied persons\, with specific attention to their sexual subjectivity.<br><br>\nThe talk will be free and open to all. For more information please see:
ORGANIZER:
METHOD:PUBLISH
END:VEVENT
END:VCALENDAR
