BEGIN:VCALENDAR
PRODID:-//Grails iCalendar plugin//NONSGML Grails iCalendar plugin//EN
VERSION:2.0
CALSCALE:GREGORIAN
METHOD:PUBLISH
BEGIN:VEVENT
DTSTAMP:20260425T154256Z
DTSTART;TZID=Europe/London:20120614T170000
DTEND;TZID=Europe/London:20120614T190000
SUMMARY:Imitation\, skill learning\, and conceptual thought: an embodied\, developmental approach
UID:20260427T132432Z-iCalPlugin-Grails@philevents-web-6b96c54f56-bljdq
TZID:Europe/London
LOCATION:London\, United Kingdom\, WC1
ORGANIZER:
METHOD:PUBLISH
END:VEVENT
END:VCALENDAR
