BEGIN:VCALENDAR
PRODID:-//Grails iCalendar plugin//NONSGML Grails iCalendar plugin//EN
VERSION:2.0
CALSCALE:GREGORIAN
METHOD:PUBLISH
BEGIN:VEVENT
DTSTAMP:20260425T115538Z
DTSTART;TZID=America/Chicago:20160922T080000
DTEND;TZID=America/Chicago:20160924T130000
SUMMARY:2016 Midwest Society of Christian Philosophers
UID:20260427T060444Z-iCalPlugin-Grails@philevents-web-6b96c54f56-bljdq
TZID:America/Chicago
LOCATION:1111 N. Glenstone\, Springfield\, United States\, 65802
DESCRIPTION:<p><strong>Theme: Christian Philosophy and Public Engagement</strong></p>\n<p>Philosophy&rsquo\;s task is not merely to advance knowledge but also to help people live well. As such\, Christian philosophy should inform and help the Christian community live well as Christian individuals and citizens.</p>\n<p>The 2016 Midwest SCP Conference at Evangel University invites philosophers to speak to the pressing social issues that face Christians\, especially matters on which Christians find themselves in conflict with other groups\, whether the broader public or other Christian groups.</p>\n<p>Please submit a 500-word abstract for your paper.&nbsp\;Submissions are welcome from both Christian and non-Christian philosophers as presenters and participants.</p>\n<p>Submit abstracts to <a href="mailto:schmidlyb@evangel.edu">schmidlyb@evangel.edu</a>. <strong>Deadline: July 1\, 2016</strong>.</p>\n<p>Submissions may speak to either personal or public questions\, such as the following:</p>\n<ul>\n<li>What are our obligations or permissions with regard to personal matters\, such as abortion\, the environment\, suicide\, poverty\, divorce and sexual practices?</li>\n<li>How ought Christians to engage collective matters\, such as gender marginalization\, racial injustice\, religious freedom\, health care and discrimination?</li>\n<li>Ought Christians or Christian institutions (e.g. universities) adjust their personal views and policies as society changes?</li>\n<li>To what extent\, or in what way\, ought Christians to advocate for socially controversial views?</li>\n</ul>\n<p><strong>Graduate Student Prize</strong></p>\n<p>Graduate students who wish to be considered for the SCP&rsquo\;s prize for the Best Graduate Student Paper must submit a final draft of their papers by August 15. A $500 award will be presented publicly at the conference.</p>
ORGANIZER;CN=Brandon Schmidly:
METHOD:PUBLISH
END:VEVENT
END:VCALENDAR
