BEGIN:VCALENDAR
PRODID:-//Grails iCalendar plugin//NONSGML Grails iCalendar plugin//EN
VERSION:2.0
CALSCALE:GREGORIAN
METHOD:PUBLISH
BEGIN:VEVENT
DTSTAMP:20260425T133633Z
DTSTART;TZID=America/Chicago:20160701T090000
DTEND;TZID=America/Chicago:20160701T090000
SUMMARY:2016 Midwest Society of Christian Philosophers
UID:20260427T101339Z-iCalPlugin-Grails@philevents-web-6b96c54f56-bljdq
TZID:America/Chicago
LOCATION:1111 N. Glenstone\, Springfield\, United States\, 65802
DESCRIPTION:<p><strong>Theme: Christian Philosophy and Public Engagement</strong></p>\n<p>Philosophy&rsquo\;s task is not merely to advance knowledge but also to help people live well. As such\, Christian philosophy should inform and help the Christian community live well as Christian individuals and citizens.</p>\n<p>The 2016 Midwest SCP Conference at Evangel University invites philosophers to speak to the pressing social issues that face Christians\, especially matters on which Christians find themselves in conflict with other groups\, whether the broader public or other Christian groups.</p>\n<p><strong>Keynote Speakers</strong>:</p>\n<ul>\n<li><strong>Richard Swinburne</strong>:&nbsp\;&ldquo\;Christian Moral Teaching on Sex\, Family\, and Life&rdquo\;<br>Swinburne is a distinguished professor and author of a number of books including&nbsp\;<em>The Existence of God</em>&nbsp\;(2004)\,&nbsp\;<em>Faith &amp\; Reason</em>&nbsp\;(2005)\,&nbsp\;<em>Revelation</em>&nbsp\;(2007)\,<em>Was Jesus God?</em>&nbsp\;(2008) and&nbsp\;<em>Mind\, Brain\, and Free Will</em>&nbsp\;(2013).</li>\n<li><strong>Leigh Vicens</strong>:&nbsp\;&ldquo\;Sin and Implicit Bias&rdquo\;<br>Vincens is an Assistant Professor at Augustana University in Sioux Falls\, South Dakota\, teaching courses on critical thinking\, contemporary moral issues\, philosophy of religion\, philosophy of mind\, and free will and moral responsibility.</li>\n<li><strong>Francis Beckwith</strong>:&nbsp\;&ldquo\;Taking Rites Seriously: Faith\, Reason\, and Religious Liberty&rdquo\;<br>Beckwith is a professor of Philosophy and Church-State Studies\, and Co-Director of the Program in Philosophical Studies of Religion in the Institute for Studies of Religion at Baylor University in Waco\, Texas.</li>\n</ul>\n<p>Please submit a 500-word abstract for your paper.&nbsp\;Submissions are welcome from both Christian and non-Christian philosophers as presenters and participants.</p>\n<p>Submit abstracts to <a href="mailto:schmidlyb@evangel.edu">schmidlyb@evangel.edu</a>. <strong>Deadline: July 1\, 2016</strong>.</p>\n<p>We welcome papers on topics that are of interest to Christian philosophers. Preference will be given to those that connect with the conference theme. For instance\,</p>\n<ul>\n<li>What are our obligations or permissions with regard to personal matters\, such as abortion\, the environment\, suicide\, poverty\, divorce and sexual practices?</li>\n<li>How ought Christians to engage collective matters\, such as gender marginalization\, racial injustice\, religious freedom\, health care and discrimination?</li>\n<li>Ought Christians or Christian institutions (e.g. universities) adjust their personal views and policies as society changes?</li>\n<li>To what extent\, or in what way\, ought Christians to advocate for socially controversial views?</li>\n</ul>\n<p><strong>Graduate Student Prize</strong></p>\n<p>Graduate students who wish to be considered for the SCP&rsquo\;s prize for the Best Graduate Student Paper must submit a final draft of their papers by August 15. A $500 award will be presented publicly at the conference.</p>
ORGANIZER;CN=Brandon Schmidly:
METHOD:PUBLISH
END:VEVENT
END:VCALENDAR
