BEGIN:VCALENDAR
PRODID:-//Grails iCalendar plugin//NONSGML Grails iCalendar plugin//EN
VERSION:2.0
CALSCALE:GREGORIAN
METHOD:PUBLISH
BEGIN:VEVENT
DTSTAMP:20260425T203921Z
DTSTART;TZID=Asia/Nicosia:20160512T051500
DTEND;TZID=Asia/Nicosia:20160512T064500
SUMMARY:'Process\, Organisms\, and Kinds.'
UID:20260427T195421Z-iCalPlugin-Grails@philevents-web-6b96c54f56-bljdq
TZID:Asia/Nicosia
LOCATION:University of Kent\, Canterbury\, United Kingdom\, CT2 7NF
DESCRIPTION:<p><em>Abstract:</em> While much thinking about science is still grounded in the substance-based ontology that has dominated scientific thinking at least since the C17th Scientific Revolution\, living things are in fact fundamentally processual.&nbsp\; Life processes\, moreover\, are complexly intertwined with one another\, often to an extent that makes distinguishing between individual processes difficult or even arbitrary.&nbsp\; In this talk I shall discuss the problems this ontological situation poses for individuating\, and also for classifying\, biological organisms.</p>\n<p><em>Comments</em>: Veli-Pekka Parkkinen (Kent)</p>
ORGANIZER;CN=Graeme A Forbes;CN=Todd Mei:
METHOD:PUBLISH
END:VEVENT
END:VCALENDAR
