BEGIN:VCALENDAR
PRODID:-//Grails iCalendar plugin//NONSGML Grails iCalendar plugin//EN
VERSION:2.0
CALSCALE:GREGORIAN
METHOD:PUBLISH
BEGIN:VEVENT
DTSTAMP:20260423T153910Z
DTSTART;TZID=America/Chicago:20161105T050000
DTEND;TZID=America/Chicago:20161105T130000
SUMMARY:Iowa Philosophical Society
UID:20260429T223233Z-iCalPlugin-Grails@philevents-web-6b96c54f56-bljdq
TZID:America/Chicago
LOCATION:Department of Philosophy\, Simpson College\, United States
ORGANIZER;CN=Patrick Connolly;CN=John Pauley:
METHOD:PUBLISH
END:VEVENT
END:VCALENDAR
