BEGIN:VCALENDAR
PRODID:-//Grails iCalendar plugin//NONSGML Grails iCalendar plugin//EN
VERSION:2.0
CALSCALE:GREGORIAN
METHOD:PUBLISH
BEGIN:VEVENT
DTSTAMP:20260423T170645Z
DTSTART;TZID=America/Chicago:20160901T194500
DTEND;TZID=America/Chicago:20160901T194500
SUMMARY:Iowa Philosophical Society
UID:20260430T030650Z-iCalPlugin-Grails@philevents-web-6b96c54f56-bljdq
TZID:America/Chicago
LOCATION:Department of Philosophy\, Simpson College\, United States
DESCRIPTION:<p>Call for Abstracts</p>\n<p>Iowa Philosophical Society</p>\n\n<p>Papers on any philosophical topic are welcome.We especially welcome abstracts from women and members of underrepresented groups.&nbsp\; Notifications of acceptance or rejection will be sent by September 30.&nbsp\; Papers should be approximately 3\,000 words long with a reading time of no more than 25 minutes.&nbsp\;</p>\n\n<p>Please send abstracts of approximately 500 words to:</p>\n<p>John Pauley</p>\n<p>Professor of Philosophy</p>\n<p>Simpson College</p>\n<p><a href="mailto:john.pauley@simpson.edu">john.pauley@simpson.edu</a></p>\n<p>OR</p>\n<p>Patrick Connolly</p>\n<p>Assistant Professor of Philosophy</p>\n<p>Iowa State University</p>\n<p><a href="mailto:pconnoll@iastate.edu">pconnoll@iastate.edu</a></p>\n\n<p><strong>ABSTRACT SUBMISSION DEADLINE: September 1\, 2016</strong></p>\n<p><strong></strong>Further details may be found on the society's website: tinyurl.com/iowaphilsoc<strong><br> <br> </strong></p>
ORGANIZER;CN=Patrick Connolly;CN=John Pauley:
METHOD:PUBLISH
END:VEVENT
END:VCALENDAR
