BEGIN:VCALENDAR
PRODID:-//Grails iCalendar plugin//NONSGML Grails iCalendar plugin//EN
VERSION:2.0
CALSCALE:GREGORIAN
METHOD:PUBLISH
BEGIN:VEVENT
DTSTAMP:20260419T213459Z
DTSTART;TZID=America/New_York:20170428T113000
DTEND;TZID=America/New_York:20170428T133000
SUMMARY:Radical Conceptual Change
UID:20260422T134529Z-iCalPlugin-Grails@philevents-web-f5d4878dd-nv7xt
TZID:America/New_York
LOCATION:32 Vassar Street\, Cambridge\, United States
DESCRIPTION:<p>When you undergo radical conceptual change\, you gain a new concept that enables you to think thoughts that you could not have thought before. Examples include (perhaps) the appearance of the concept of Newtonian force\; the separation of the concepts of heat and temperature\; young children&rsquo\;s acquisition of the concept of belief. But how is such change possible? It seems that it cannot be the product of ordinary thinking of various sorts\, such as inference or stipulation\, since these require the concept or something effectively equivalent to exist already. So what psychological process\, if any\, can introduce a radically new concept? This paper sketches the outlines of such a process\, called introjection\, and argues that concepts so acquired give the acquirer\, as the definition of radical conceptual change requires\, the ability to think thoughts that were previously beyond their reach. &nbsp\;</p>
ORGANIZER:
METHOD:PUBLISH
END:VEVENT
END:VCALENDAR
