BEGIN:VCALENDAR
PRODID:-//Grails iCalendar plugin//NONSGML Grails iCalendar plugin//EN
VERSION:2.0
CALSCALE:GREGORIAN
METHOD:PUBLISH
BEGIN:VEVENT
DTSTAMP:20260420T100735Z
DTSTART;TZID=Europe/London:20161101T060000
DTEND;TZID=Europe/London:20161101T130000
SUMMARY:Personal Identity and Public Policy
UID:20260424T195958Z-iCalPlugin-Grails@philevents-web-f5d4878dd-nv7xt
TZID:Europe/London
LOCATION:Oxford\, United Kingdom
ORGANIZER;CN=Simon Beard;CN=Tim Campbell:
METHOD:PUBLISH
END:VEVENT
END:VCALENDAR
