BEGIN:VCALENDAR
PRODID:-//Grails iCalendar plugin//NONSGML Grails iCalendar plugin//EN
VERSION:2.0
CALSCALE:GREGORIAN
METHOD:PUBLISH
BEGIN:VEVENT
DTSTAMP:20260419T132315Z
DTSTART;TZID=America/Chicago:20170519T050000
DTEND;TZID=America/Chicago:20170520T130000
SUMMARY:Subjectivity in Language and Thought
UID:20260420T130932Z-iCalPlugin-Grails@philevents-web-f5d4878dd-nv7xt
TZID:America/Chicago
LOCATION:1100 East 57th Street\, Chicago\, United States\, 60637
DESCRIPTION:<p>Expressions whose meaning have a distinctly subjective dimension &ndash\; most notably predicates of personal taste &mdash\; have received increased attention by linguists and philosophers in the last decade or so. In addition to the extensively debated phenomenon of faultless disagreement (K&ouml\;lbel)\, the fact that across languages certain attitude verbs such as English &ldquo\;find&rdquo\; require their complement to be subjective in a distinct way (S&aelig\;b&oslash\;) raises unique conceptual and empirical challenges to a comprehensive theory of natural language meaning. Several researchers have explored issues about subjective expressions beyond their significance for the relativism-vs-contextualism debate that is so prominent in linguistics and philosophy of language\, including: the types of subjective meanings that natural languages encode\, the subjective dimensions of modality\, and the evidential dimension of subjective predicates and attitude verbs. The aim of this workshop is to continue this trend by bringing together innovative perspectives on subjective language and thought in an interdisciplinary setting. &nbsp\;</p>
ORGANIZER;CN=Christopher Kennedy ;CN=Malte Willer:
METHOD:PUBLISH
END:VEVENT
END:VCALENDAR
