BEGIN:VCALENDAR
PRODID:-//Grails iCalendar plugin//NONSGML Grails iCalendar plugin//EN
VERSION:2.0
CALSCALE:GREGORIAN
METHOD:PUBLISH
BEGIN:VEVENT
DTSTAMP:20260419T145607Z
DTSTART;TZID=America/Chicago:20170102T070000
DTEND;TZID=America/Chicago:20170102T070000
SUMMARY:Subjectivity in Language and Thought
UID:20260420T214255Z-iCalPlugin-Grails@philevents-web-f5d4878dd-nv7xt
TZID:America/Chicago
LOCATION:1100 East 57th Street\, Chicago\, United States\, 60637
DESCRIPTION:<p>The Departments of Linguistics and Philosophy at the University of Chicago will host a two-day workshop\, May 19-20\, 2017\, that aims to bring together recent innovations and novel perspectives on the phenomenon of subjectivity in language and thought. The workshop is funded by the Neubauer Collegium for Culture and Society.</p>\n<p>We invite abstracts for 30-minute talks (plus 15 mins discussion) in any area related to the workshop topics (see http://subjectivity2017.uchicago.edu for details). We especially encourage submissions that broaden or challenge existing perspectives on the phenomenon of subjectivity in linguistics or philosophy\, for instance\, through novel data\, cross-linguistic studies\, experimental or corpus-based work\, or non-traditional frameworks and methodologies.</p>\n<p><br>Abstract Guidelines:<br><br>1. Abstracts must be submitted in PDF format with filename PaperTitle.pdf (e.g.\, Subjectivity_and_Discourse_Function.pdf).<br><br>2. The main text should be at most 3 pages (US Letter or A4) in length\, including examples\, with an optional fourth page for references. The abstract should use a 12pt font and 1 inch margins (for US Letter) or 3 cm margins (for A4) on all four sides. The abstract must be submitted as a single PDF file. These limitations will be strictly enforced. In addition to the intellectual merit of the abstract\, clarity and readability will also be taken into account in reviewing.<br><br>3. Abstracts must be anonymous. Author name(s) must not appear on the abstract or file name. Please include the name and author information in the email of submission.<br><br>4. Please submit your abstract by sending it to: subjectivity2017@gmail.com.<br><br>5. All abstracts must be submitted by January 2\, 2017 at 11:59 PM CST.<br><br>6. Submissions are limited to one individual and one joint abstract per author\, or two joint abstracts per author.<br><br>Important Dates:<br><br>Submission deadline: January 2\, 2017<br>Notification of Acceptance: Early February\, 2017<br>Workshop date: May 19-20\, 2017<br><br>For questions\, please contact us at: subjectivity2017@gmail.com<br><br><br></p>
ORGANIZER;CN=Christopher Kennedy ;CN=Malte Willer:
METHOD:PUBLISH
END:VEVENT
END:VCALENDAR
