BEGIN:VCALENDAR
PRODID:-//Grails iCalendar plugin//NONSGML Grails iCalendar plugin//EN
VERSION:2.0
CALSCALE:GREGORIAN
METHOD:PUBLISH
BEGIN:VEVENT
DTSTAMP:20260425T124417Z
DTSTART;TZID=Europe/Rome:20170906T053000
DTEND;TZID=Europe/Rome:20170907T130000
SUMMARY:ICSD 2017 : 5th International Conference on Sustainable Development\, 6 - 7 September 2017 Rome\, Italy
UID:20260427T074234Z-iCalPlugin-Grails@philevents-web-6b96c54f56-bljdq
TZID:Europe/Rome
LOCATION:Piazza della Pilotta\, Roma\, Italy\, 00187
DESCRIPTION:<p><strong><br></strong></p>\n<p><strong>The 5th ICSD 2017.will be an excellent opportunity to share your ideas and research findings relevant to the Sustainability Science\,through the European network of academics Papers will be published in EJSD Journal(Thompson Reuters)Proceedings</strong> <br> <br> <strong>Organized by: European Center of Sustainable Development - CIT </strong>University</p>\n<p><br><strong>Conference Objective and Philosophical Framework&nbsp\;&nbsp\;&nbsp\;&nbsp\;&nbsp\; &nbsp\; &nbsp\; &nbsp\; &nbsp\; &nbsp\; &nbsp\; <br></strong></p>\n<p>&nbsp\;<strong>The International Conference on Sustainable Development is inspired from the critical challenge of human\, environmental\, and economic sustainability concerning the present and future generations in a global-scale context. </strong></p>\n<p>The 5th ICSD 2017 will be held at the Roma Eventi\, Piazza della Pilotta\, 4\, Rome\, Italy<br><strong>Wednesday 6 to Thursday 7 September\, 2017.</strong></p>\n<p>We invite you to submit an abstract in the range of the<br>following streams within the ICSD2017 program:</p>\n<p><strong>1. Economic Sustainability:</strong><br>&nbsp\;&nbsp\;&nbsp\; Financial Sustainability\, SME\, MicroFinance\,<br>&nbsp\;&nbsp\;&nbsp\; Emerging Countries\, International Trade\,<br><strong>2. Environmental Sustainability:</strong><br>&nbsp\;&nbsp\;&nbsp\; Water and Soil conservation\, Healthcare\,<br>&nbsp\;&nbsp\;&nbsp\; Renewable Energies\, Food and Enviromental Legislation<br><strong>3. Socio-Cultural Sustainability:</strong><br>&nbsp\;&nbsp\;&nbsp\; Sustainable Urbanism\, Education\, Human<br>&nbsp\;&nbsp\;&nbsp\; Development\, Psychology\, Sociology</p>\n<p>We are inviting proposals for paper presentations\, posters/exhibits\, or virtual presentation. Proposal ideas that extend beyond these thematic areas will also be considered.&nbsp\; For more information about the ideas and themes underlying this community send an e-mail at:&nbsp\; <strong><a href="mailto:icsd@ecsdev.org">icsd@ecsdev.org</a></strong></p>\n<p>Virtual participation is available for those who are unable to attend the conference in person.&nbsp\; All conference registrants (in-person and virtual) can be published in the European Journal of Sustainable Development or in the Book of Proceedings ICSD 2017 (ISBN).</p>\n<p>Read more \; <a href="http://www.ecsdev.org/index.php/conference">http://www.ecsdev.org/index.php/conference</a></p>
ORGANIZER:
METHOD:PUBLISH
END:VEVENT
END:VCALENDAR
