BEGIN:VCALENDAR
PRODID:-//Grails iCalendar plugin//NONSGML Grails iCalendar plugin//EN
VERSION:2.0
CALSCALE:GREGORIAN
METHOD:PUBLISH
BEGIN:VEVENT
DTSTAMP:20260421T025032Z
DTSTART;TZID=America/Chicago:20170330T050000
DTEND;TZID=America/Chicago:20170401T130000
SUMMARY:NUSTEP Eleventh Annual Conference
UID:20260422T015417Z-iCalPlugin-Grails@philevents-web-6b96c54f56-bljdq
TZID:America/Chicago
LOCATION:633 Clark St\, Evanston\, United States\, 60208
DESCRIPTION:<p>The Northwestern Society for the Theory of Ethics and Politics (NUSTEP) hosts an annual spring conference in moral and political philosophy.&nbsp\; We are proud that the conference\, now in its eleventh year\, has an established reputation as a constructive and collegial event addressing some of the most difficult and important questions of moral and political philosophy. The three-day conference features two invited keynote addresses - Marcia Baron (Indiana) and Kieran Setiya (MIT) - and submitted papers by both faculty and graduate students as well as ample time for informal discussion. This year the conference will be March 30 - April 1\, 2017 at Northwestern University - Evanston.</p>
ORGANIZER:
METHOD:PUBLISH
END:VEVENT
END:VCALENDAR
