BEGIN:VCALENDAR
PRODID:-//Grails iCalendar plugin//NONSGML Grails iCalendar plugin//EN
VERSION:2.0
CALSCALE:GREGORIAN
METHOD:PUBLISH
BEGIN:VEVENT
DTSTAMP:20260421T025032Z
DTSTART;TZID=America/Chicago:20170110T184500
DTEND;TZID=America/Chicago:20170110T184500
SUMMARY:NUSTEP Eleventh Annual Conference
UID:20260422T015418Z-iCalPlugin-Grails@philevents-web-6b96c54f56-bljdq
TZID:America/Chicago
LOCATION:633 Clark St\, Evanston\, United States\, 60208
DESCRIPTION:<p>SUBMISSION GUIDELINES: We welcome submissions from faculty and graduate students\, as some sessions will be reserved for student presentations. &nbsp\;Please submit an essay of approximately 4000 words. &nbsp\;Essay topics in all areas of ethical theory and political philosophy will be considered\, although some priority will be given to essays that take up themes from the work of Marcia Baron and Kieran Setiya: agency\, akrasia\, Hume&rsquo\;s ethics\, friendship\, impartiality and partiality\, Kant&rsquo\;s ethics\, know-how\, liberalism\, love\, loyalty\, moral epistemology\, philosophy of law\, rationality\, reasons\, self-defense\, and self-love. &nbsp\;Essays should be prepared for blind review in word\, rtf\, or pdf format. &nbsp\;Graduate submissions should be sent by e-mail to nustep.grad.conference@gmail.com\; faculty submissions should be sent by e-mail to kebelsduggan@northwestern.edu. &nbsp\;The deadline for submissions is January 10\, 2017. &nbsp\;Notices of acceptance will be sent by February 15. &nbsp\;For more information\, please contact Kyla Ebels-Duggan at the e-mail address above or visit our website:&nbsp\;</p>\n<p>http://www.philosophy.northwestern.edu/conferences/moralpolitical/&nbsp\;</p>\n
ORGANIZER:
METHOD:PUBLISH
END:VEVENT
END:VCALENDAR
