BEGIN:VCALENDAR
PRODID:-//Grails iCalendar plugin//NONSGML Grails iCalendar plugin//EN
VERSION:2.0
CALSCALE:GREGORIAN
METHOD:PUBLISH
BEGIN:VEVENT
DTSTAMP:20260422T174721Z
DTSTART;TZID=Europe/Paris:20120622T100000
DTEND;TZID=Europe/Paris:20120623T180000
SUMMARY:Pragmatisme et sciences sociales
UID:20260427T033359Z-iCalPlugin-Grails@philevents-web-6b96c54f56-bljdq
TZID:Europe/Paris
LOCATION:16-18 rue Suger\, Paris\, France\, 75006
DESCRIPTION:<p><strong>Programme</strong></p>\n<p><strong>Vendredi 22 juin 10-13</strong><br>Albert Ogien (CNRS/CEMS): L'enqu&ecirc\;te comme m&eacute\;thode et comme forme de vie<br>Louis Qu&eacute\;r&eacute\; ( CNRS/CEMS)\, C&eacute\;dric Terzi (Universit&eacute\; de Lille III): Pour une sociologie pragmatiste de l'exp&eacute\;rience publique<br>Patrice Duran (ENS-Cachan): John Dewey\, inspirateur des Policy Sciences<br><br><strong>Vendredi 22 juin 15-18</strong><br>Filipe Carreira da Silva (University of Lisbon) : Getting rights right: The outline of a neo-pragmatist social theory of rights<br>Tullio Viola (Humboldt Universit&auml\;t zu Berlin): Proclamer et trahir: Peirce et l'Iconologie<br>Roberto Frega (IEA Paris): Le pragmatisme\, ou de la normativit&eacute\; comme pratique<br><br><strong>Samedi 23 juin 10-13</strong><br>Simona Cerutti (EHESS/CRH-LaD&eacute\;HiS): Suppliques et l&eacute\;gitimit&eacute\;. Autour d'une lecture pragmatique des sources (XVIIIe si&egrave\;cle)<br>Yves Cohen (EHESS/CRH): R&eacute\;flexion pour une consid&eacute\;ration pragmatiste de l&rsquo\;histoire du xxe si&egrave\;cle<br>Claude Gautier (Universit&eacute\; de Montpellier II) : La force du social<br><br><strong>Samedi 23 juin 15-17</strong><br>Pierre Steiner (Universit&eacute\; de Technologie de Compi&egrave\;gne): Socialit&eacute\; et vie de l'esprit : du tournant pragmatico-cognitif au moment pragmatiste<br>Mathias Girel (ENS): Le pragmatisme et les "marchands de doute"<br><br><strong>Organizers</strong></p>\n<p>Roberto Frega (IEA - Paris)&nbsp\;fregarob@gmail.com</a><br>Mathias Girel (ENS)&nbsp\;mathias.girel@gmail.com</a></p>
ORGANIZER:
METHOD:PUBLISH
END:VEVENT
END:VCALENDAR
