BEGIN:VCALENDAR
PRODID:-//Grails iCalendar plugin//NONSGML Grails iCalendar plugin//EN
VERSION:2.0
CALSCALE:GREGORIAN
METHOD:PUBLISH
BEGIN:VEVENT
DTSTAMP:20260422T070951Z
DTSTART;TZID=Europe/Paris:20120710T100000
DTEND;TZID=Europe/Paris:20120712T180000
SUMMARY:Bergson\, Jankelevitch\, Levinas: Metaphysique\, morale et temps
UID:20260425T114719Z-iCalPlugin-Grails@philevents-web-6b96c54f56-bljdq
TZID:Europe/Paris
LOCATION:31 Rue de la Fonderie\, Toulouse\, France
DESCRIPTION:<p>Henri Bergson\, Vladimir Jank&eacute\;l&eacute\;vitch\, Emmanuel Levinas : ces trois figures majeures de la philosophie du XXe&nbsp\;si&egrave\;cle sont li&eacute\;es entre elles par une relation aussi &eacute\;troite que complexe. Les &oelig\;uvres de Jank&eacute\;l&eacute\;vitch et de Levinas portent le sceau de l'enseignement bergsonien d&eacute\;couvert d&egrave\;s leurs ann&eacute\;es de jeunesse. En pleine vogue existentialiste\, Jank&eacute\;l&eacute\;vitch et Levinas ont continu&eacute\; &agrave\; voir en Bergson une source majeure d'inspiration.</p>\n<p>L&rsquo\;objet du colloque est de s&rsquo\;interroger sur les relations qu&rsquo\;entretiennent entre elles ces trois philosophies. Proches de Bergson\, Levinas et Jank&eacute\;l&eacute\;vitch n'ont jamais &eacute\;t&eacute\; ses disciples. Ils lui ont t&eacute\;moign&eacute\; cette &laquo\; v&eacute\;ritable fid&eacute\;lit&eacute\; &raquo\; qui &laquo\; est toujours infid&egrave\;le par fid&eacute\;lit&eacute\; &raquo\; (Jank&eacute\;l&eacute\;vitch). Il s'agira d'envisager la mani&egrave\;re dont cette &laquo\;&nbsp\;infid&eacute\;lit&eacute\; par fid&eacute\;lit&eacute\;&nbsp\;&raquo\; se manifeste sur des points cruciaux selon trois axes de r&eacute\;flexion principaux : le renouvellement de la m&eacute\;taphysique\, la conception de la temporalit&eacute\; et la morale.</p>\n<p><strong>Intervenants&nbsp\;:</strong>&nbsp\;Flora Bastiani\, Giuseppe Bianco\, Arnaud Bouaniche\, Anne Coignard\, Arnaud Fran&ccedil\;ois\, Philippe Grosos\, Elisabeth Grimmer\, Jo&euml\;lle Hansel\, Andrew Kelley\, Mathieu Lefevre\, Enrica Lisciani Petrini\, S&eacute\;bastien Mirav&egrave\;te\, Masumi Nagasaka\, Bruno Picot\, Jean-Fran&ccedil\;ois Rey\, Camille Riquier\, Jean-Michel Salanskis\, Johannes Schick\, Fran&ccedil\;oise Schwab\, Svetlana Sholokhova\, Luc-Thomas Somme\, Fr&eacute\;d&eacute\;ric Worms.</p>\n<p><strong>Mardi 10 Juillet\, 21h</strong></p>\n<ul>\n<li><strong>Andrew Kelley</strong>&nbsp\;: La notion de &laquo\; l&rsquo\;absolu &raquo\; dans la m&eacute\;taphysique de Jank&eacute\;l&eacute\;vitch et de Bergson</li>\n<li><strong>Jean-Michel Salanskis</strong>&nbsp\;: Le spirituel et l&rsquo\;id&eacute\;al&nbsp\;</li>\n<li>Projection d&rsquo\;un&nbsp\;<strong>entretien in&eacute\;dit d&rsquo\;Emmanuel Levinas</strong>&nbsp\;(1990)&nbsp\;</li>\n</ul>\n<p>Mod&eacute\;ration :&nbsp\;<strong>Jo&euml\;lle Hansel</strong></p>\n<p>Entr&eacute\;e libre dans la limite des places disponibles</p>\n<p>M&eacute\;tro "Palais de justice" (ligne B)</p>\n<p>Programme et inscriptions en ligne:</p>
ORGANIZER:
METHOD:PUBLISH
END:VEVENT
END:VCALENDAR
