BEGIN:VCALENDAR
PRODID:-//Grails iCalendar plugin//NONSGML Grails iCalendar plugin//EN
VERSION:2.0
CALSCALE:GREGORIAN
METHOD:PUBLISH
BEGIN:VEVENT
DTSTAMP:20260423T155831Z
DTSTART;TZID=Europe/Berlin:20170620T050000
DTEND;TZID=Europe/Berlin:20170622T130000
SUMMARY:Inclusion and Exclusion in Philosophy
UID:20260429T230428Z-iCalPlugin-Grails@philevents-web-6b96c54f56-bljdq
TZID:Europe/Berlin
LOCATION:Hannover\, Germany
DESCRIPTION:<p>20-22 June 2017<br>Leibniz Universit&auml\;t Hannover\, Germany<br><br>Website:&nbsp\;https://inclusionexclusionphilosophy.wordpress.com/<br><br>*Topic and aim*<br><br>Specific social groups are underrepresented in many academic disciplines\, including philosophy. The overall aim of the workshop is to gain a better understanding of how and to what extent:<br><br>- exclusionary social interactions shape the philosophical discipline.<br>- explicit (e.g.\, thematic or methodological) biases play a role in philosophy.<br>- implicit (e.g.\, thematic or methodological) biases play a role in philosophy.<br>- different social groups are affected by the identified exclusionary factors.<br>- the current environment of academic philosophy can be improved.<br><br>*Keynote Speakers*<br><br>- Liam Kofi Bright (Carnegie Mellon University)<br>- Kristie Dotson (Michigan State University)<br>- Kieran Healy (Duke University)<br>- Katharine Jenkins (University of Nottingham)<br><br>Deadline for submission of an abstract (max. 500 words) is 20 January 2017.<br>Notification of acceptance: 1 February 2017<br><br>Please send your abstract prepared for blind review as an e-mail attachment (.doc\, .docx or .pdf) to&nbsp\;exclusionworkshop2017@gmail.com.<br><br>If you have any questions regarding the conference please contact the organizers:<br>Anna Leuschner (anna.leuschner@philos.uni-hannover.de) or David Ludwig (d.j.ludwig@vu.nl)</p>
ORGANIZER;CN=Anna Leuschner;CN=David Ludwig:
METHOD:PUBLISH
END:VEVENT
END:VCALENDAR
