BEGIN:VCALENDAR
PRODID:-//Grails iCalendar plugin//NONSGML Grails iCalendar plugin//EN
VERSION:2.0
CALSCALE:GREGORIAN
METHOD:PUBLISH
BEGIN:VEVENT
DTSTAMP:20260425T040753Z
DTSTART;TZID=America/New_York:20170902T050000
DTEND;TZID=America/New_York:20170915T130000
SUMMARY:Minds Online
UID:20260426T141901Z-iCalPlugin-Grails@philevents-web-6b96c54f56-bljdq
TZID:America/New_York
LOCATION:Tallahassee\, United States
DESCRIPTION:<p>Minds Online is an annual online conference dedicated to philosophy of mind (broadly construed)\, epistemology (as it relates to philosophy of mind)\, the philosophy of action\, the philosophy of science\, and moral psychology\, as well as experimental disciplines such as psychology and neuroscience.</p>\n<p>The online conference has many advantages over the traditional conference--including increased exposure for presenters\, higher quality papers\, higher quality commenters\, a more manageable pace during the comment period\, less expense\, and less travel-related frustration.</p>\n<p>The conference will include two one-week sessions. &nbsp\;Each paper will be accompanied by a short audio or audiovisual introduction\, some invited commentaries\, and a reply by the author. &nbsp\;There will then be opportunity for open discussion between readers and authors.</p>\n<p>For more information\, please visit the Minds Online website:</p>
ORGANIZER;CN=Cameron Buckner;CN=Nick Byrd;CN=John Schwenkler:
METHOD:PUBLISH
END:VEVENT
END:VCALENDAR
