BEGIN:VCALENDAR
PRODID:-//Grails iCalendar plugin//NONSGML Grails iCalendar plugin//EN
VERSION:2.0
CALSCALE:GREGORIAN
METHOD:PUBLISH
BEGIN:VEVENT
DTSTAMP:20260422T213346Z
DTSTART;TZID=America/Los_Angeles:20170531T080000
DTEND;TZID=America/Los_Angeles:20170531T080000
SUMMARY:Hinge Epistemology
UID:20260427T193737Z-iCalPlugin-Grails@philevents-web-6b96c54f56-bljdq
TZID:America/Los_Angeles
LOCATION:University of California\, Irvine\, Irvine\, United States
DESCRIPTION:<p>2 grants for early career philosophers are available (PhD required\, postdoctoral or non-tenured position).</p>\n<p>Hinge epistemology originates in the works of the later Wittgenstein (with special reference to <em>On Certainty</em>) and G.E. Moore. It has been developed in various fashions in the past decades and brought to bear on issues such as external world skepticism\, epistemic relativism\, moral and religious epistemology\, social epistemology and the epistemology of logic. Papers should address interpretative or theoretical issues concerned with the origins or current developments of this trend of contemporary epistemology.&nbsp\;</p>\n<p>Please send either the entire paper or a long abstract (1K words minimum).</p>\n<p>Manuscripts should be prepared for blind review.</p>\n<p>All contact information should be contained in the email.</p>\n<p>Please send manuscripts to Sara Connor sdconnor@uci.edu</p>
ORGANIZER;CN=Annalisa Coliva;CN=Duncan Pritchard:
METHOD:PUBLISH
END:VEVENT
END:VCALENDAR
