BEGIN:VCALENDAR
PRODID:-//Grails iCalendar plugin//NONSGML Grails iCalendar plugin//EN
VERSION:2.0
CALSCALE:GREGORIAN
METHOD:PUBLISH
BEGIN:VEVENT
DTSTAMP:20260423T151841Z
DTSTART;TZID=Europe/Berlin:20120921T110000
DTEND;TZID=Europe/Berlin:20120922T180000
SUMMARY:What is really possible 2 (WIRP-2): Logical and Philosophical Aspects of Real Possibility
UID:20260429T213523Z-iCalPlugin-Grails@philevents-web-6b96c54f56-bljdq
TZID:Europe/Berlin
LOCATION:Konstanz\, Germany
DESCRIPTION:<p>We live in a world of possibilities. Much of our practical life &ndash\; planning\, deciding\, hoping and&nbsp\;fearing &ndash\; only makes sense before a background of options to choose from and possibilities for&nbsp\;what the future will bring: real possibilities in concrete situations. Such real possibilities are&nbsp\;dynamical: they vanish when they are not actualized. Real possibilities are commonly represented&nbsp\;within branching frameworks such as provided by the Prior-Thomason account of Branching Time&nbsp\;and Belnap&rsquo\;s theory of Branching Space-Times. In those branching frameworks our world is&nbsp\;pictured as a tree of histories branching off from a single past course of events into multiple&nbsp\;possible futures. Work on real possibility has so far been mainly technical\, e.g.\, in the formal-logical study of the semantics of the future tense and the problem of future contingents.&nbsp\;In this workshop we want to combine logical and philosophical aspects of real possibility.&nbsp\;Important logical questions concern the interaction of time\, modality and quantifcation.&nbsp\;Connected to these logical issues there are questions of interpretation: How should a branching&nbsp\;structure be understood in the first place? Are all branches equally real? What is the difference between branching and divergence? How can individuals be situated within a branching picture?&nbsp\;Exploring the relation of real possibility to other notions of possibility is another desideratum.&nbsp\;Metaphysical and physical possibilities are prominent in accounts of causality and laws of nature.&nbsp\;The role of real possibilities in metaphysics and in the sciences still needs to be assessed.</p>\n<p>This workshop is&nbsp\;as a satellite workshop following the GAP.8 conference of the Society for Analytic Philosophy in&nbsp\;Germany\, 17-20 September 2012 (see: GAP.8 website: http://www.gap8.de/).<br><br>Attendance of the workshop is free\, but limited due to space restrictions\; if you wish to attend\,&nbsp\;please send email to&nbsp\;possibilities@phil.uu.nl.<br><br>WIRP-2 is the second workshop of the NWO VIDI research project "What is Really Possible?&nbsp\;Philosophical explorations in branching-history based real modality" hosted by the Department of&nbsp\;Philosophy of Utrecht University. See:&nbsp\;http://possibilities.phil.uu.nl/.<br><br>If you have any questions please do not hesitate to contact us via&nbsp\;possibilities@phil.uu.nl.</p>\n<p>For more information\, see the workshop website:</p>
ORGANIZER;CN="Thomas  Müller";CN=Antje Rumberg:
METHOD:PUBLISH
END:VEVENT
END:VCALENDAR
