BEGIN:VCALENDAR
PRODID:-//Grails iCalendar plugin//NONSGML Grails iCalendar plugin//EN
VERSION:2.0
CALSCALE:GREGORIAN
METHOD:PUBLISH
BEGIN:VEVENT
DTSTAMP:20260422T170907Z
DTSTART;TZID=Europe/Lisbon:20130404T100000
DTEND;TZID=Europe/Lisbon:20130406T180000
SUMMARY:UNUM VERUM BONUM - International Colloquium on Medieval Philosophy  for MA\, PhD and Post-doctoral students
UID:20260427T002138Z-iCalPlugin-Grails@philevents-web-6b96c54f56-bljdq
TZID:Europe/Lisbon
LOCATION:University of Lisbon & Catholic University of Portugal\, Lisbon\, Portugal
DESCRIPTION:<p>In the 13th century\, Philip the Chancellor endeavored to gather and systematize the roll of transcendentals &ndash\; <em>unum</em>\, <em>verum</em>\, <em>bonum</em> &ndash\; as co-extensive properties to being\; that would determine all the subsequent medieval philosophical thought. Under the aegis of &ldquo\;<em>unum</em>\, <em>verum</em>\, <em>bonum</em>&rdquo\;\, we now seek to bring together MA\, PhD and Post-doctoral researchers on Medieval Philosophy. Their research may be focused on ontology or metaphysics\, theory of knowledge (<em>verum</em>)\, ethics\, politics and economics (<em>bonum</em>)\, aesthetics (<em>pulchrum</em> was itself considered within its relation with <em>unum</em>\, <em>verum\,</em> and <em>bonum</em>). The scope of this colloquium extends not only to the different philosophical fields explored throughout the Middle Ages\, but also to different philosophical lineages (Aristotelian philosophy and Neoplatonism) and to the different religious inspirations (Judaism\, Christianity and Islamism).</p>\n<p>It is the main purpose of this colloquium to bring together MA\, PhD and Post-Doctoral researchers in Medieval Philosophy from universities around the world\, and also to encourage philosophical discussion between all the participants.</p>\n<p>Working languages of the Conference are Portuguese\, English\, Spanish and French.</p>\n<p>We welcome you in advance to Lisbon\, the city of the seven hills.</p>\n<p><strong>Scientific Committee: </strong></p>\n<p>Giampaolo ABBATE</p>\n<p>Catarina BELO</p>\n<p>M&aacute\;rio Santiago de CARVALHO</p>\n<p>Maria de Lourdes Sirgado GANHO</p>\n<p>Jos&eacute\; da Costa MACEDO</p>\n<p>Ant&oacute\;nio Rocha MARTINS</p>\n<p>Maria Manuela Brito MARTINS</p>\n<p>Jos&eacute\; MEIRINHOS</p>\n<p>Jos&eacute\; ROSA</p>\n<p>Maria Leonor XAVIER</p>\n<p><strong>Fees (speakers and participants):</strong></p>\n<p>60&euro\;: Conference materials\, Certificate and Conference lunch on April 6</p>\n<p>20&euro\;: Conference materials and Certificate</p>\n<p><strong>&nbsp\;</strong></p>\n<p>Please note that the organization of the conference does not provide support for travelling and accommodation.</p>\n<p>Further information will be available at <a href="http://www.centrodefilosofia.com/">www.centrodefilosofia.com</a>.</p>
ORGANIZER;CN=Filipa Afonso;CN="Maria Inês Bolinhas";CN=Ana Rita Ferreira:
METHOD:PUBLISH
END:VEVENT
END:VCALENDAR
