BEGIN:VCALENDAR
PRODID:-//Grails iCalendar plugin//NONSGML Grails iCalendar plugin//EN
VERSION:2.0
CALSCALE:GREGORIAN
METHOD:PUBLISH
BEGIN:VEVENT
DTSTAMP:20260422T185929Z
DTSTART;TZID=Europe/London:20121001T180000
DTEND;TZID=Europe/London:20121001T180000
SUMMARY:UNUM VERUM BONUM - International Colloquium on Medieval Philosophy  for MA\, PhD and Post-doctoral students
UID:20260427T071920Z-iCalPlugin-Grails@philevents-web-6b96c54f56-bljdq
TZID:Europe/London
LOCATION:University of Lisbon & Catholic University of Portugal\, Lisbon\, Portugal
DESCRIPTION:<p>In the 13th century\, Philip the Chancellor endeavored to gather and systematize the roll of transcendentals &ndash\; <em>unum</em>\, <em>verum</em>\, <em>bonum</em> &ndash\; as co-extensive properties to being\; that would determine all the subsequent medieval philosophical thought. Under the aegis of &ldquo\;<em>unum</em>\, <em>verum</em>\, <em>bonum</em>&rdquo\;\, we now seek to bring together MA\, PhD and Post-doctoral researchers on Medieval Philosophy. Their research may be focused on ontology or metaphysics\, theory of knowledge (<em>verum</em>)\, ethics\, politics and economics (<em>bonum</em>)\, aesthetics (<em>pulchrum</em> was itself considered within its relation with <em>unum</em>\, <em>verum\,</em> and <em>bonum</em>). The scope of this colloquium extends not only to the different philosophical fields explored throughout the Middle Ages\, but also to different philosophical lineages (Aristotelian philosophy and Neoplatonism) and to the different religious inspirations (Judaism\, Christianity and Islamism).</p>\n<p>It is the main purpose of this colloquium to bring together MA\, PhD and Post-Doctoral researchers in Medieval Philosophy from universities around the world\, and also to encourage philosophical discussion between all the participants.</p>\n<p>Should you be interested in participating in this meeting we invite you to submit a paper proposal (according to the rules stated below).</p>\n<p>We welcome you in advance to Lisbon\, the city of the seven hills.</p>\n<p>Working languages of the Conference are Portuguese\, English\, Spanish and French. However\, if you want to present your paper in a language other than English\, we strongly advise you to provide an English translation in a Word document\, 7 days prior to venue.</p>\n<p><strong>Paper proposals:</strong></p>\n<p>Please send a Word document to <a target="_blank">callforpapers.uvb@gmail.com</a>\, by <strong>October 1\, 2012</strong>\, with the following information:</p>\n<p>1st page</p>\n<p>&nbsp\;&nbsp\;&nbsp\;&nbsp\;&nbsp\;&nbsp\; 1.&nbsp\;&nbsp\; The title of your paper in the language you wish to present it.</p>\n<p>&nbsp\;&nbsp\;&nbsp\;&nbsp\;&nbsp\;&nbsp\; 2.&nbsp\;&nbsp\; A 150 to 300 words abstract in English for a 20-minute paper.</p>\n<p>2nd page</p>\n<p>&nbsp\; &nbsp\;&nbsp\;&nbsp\;&nbsp\;&nbsp\;1.&nbsp\;&nbsp\; Author</p>\n<p>&nbsp\;&nbsp\;&nbsp\;&nbsp\;&nbsp\;&nbsp\; 2. &nbsp\;&nbsp\;Email address</p>\n<p>&nbsp\;&nbsp\;&nbsp\;&nbsp\;&nbsp\;&nbsp\; 3.&nbsp\;&nbsp\; Institutional affiliation</p>\n<p>&nbsp\;&nbsp\;&nbsp\;&nbsp\;&nbsp\;&nbsp\; 4.&nbsp\;&nbsp\; Brief biographical note (100 words)</p>\n<p>Notification of acceptance will be given by <strong>December 1\, 2012</strong>.</p>\n<p>A selection of papers will be eligible for publication in electronic format with ISBN.</p>\n\n\n<p><strong>Keynote speakers:</strong></p>\n<p>Alessandro Ghisalberti (Universit&agrave\; Cattolica del Sacro Cuore)</p>\n<p>Dermot Moran (University College Dublin)</p>\n<p>Francisco Meirinhos (Universidade do Porto)</p>\n\n\n<p><strong>Scientific Committee: </strong></p>\n<p>Giampaolo ABBATE</p>\n<p>Catarina BELO</p>\n<p>M&aacute\;rio Santiago de CARVALHO</p>\n<p>Maria de Lourdes Sirgado GANHO</p>\n<p>Jos&eacute\; da Costa MACEDO</p>\n<p>Ant&oacute\;nio Rocha MARTINS</p>\n<p>Maria Manuela Brito MARTINS</p>\n<p>Jos&eacute\; MEIRINHOS</p>\n<p>Jos&eacute\; ROSA</p>\n<p>Maria Leonor XAVIER</p>\n\n\n<p><strong>Organizing Committee: </strong></p>\n<p>Filipa AFONSO</p>\n<p>Maria In&ecirc\;s BOLINHAS</p>\n<p>Ana Rita FERREIRA</p>\n\n\n<p><strong>Important deadlines: </strong></p>\n<p>Abstract submission &ndash\; October 1\, 2012</p>\n<p>Notification of acceptance &ndash\; December 1\, 2012</p>\n<p>Early bird registration &ndash\; January 31\, 2013</p>\n\n\n<p><strong>Fees (speakers and participants):</strong></p>\n<p>60&euro\;: Conference materials\, Certificate and Conference lunch on April 6</p>\n<p>20&euro\;: Conference materials and Certificate</p>\n<p><strong>&nbsp\;</strong></p>\n<p>Please note that the organization of the conference does not provide support for travelling and accommodation.</p>\n<p>Further information will be available at <a href="http://www.centrodefilosofia.com/">www.centrodefilosofia.com</a>.</p>
ORGANIZER;CN=Filipa Afonso;CN="Maria Inês Bolinhas";CN=Ana Rita Ferreira:
METHOD:PUBLISH
END:VEVENT
END:VCALENDAR
